Workbook

Sheet Zbiorcze
C3: Nr Arkusza | D3: Ilość [m]
D4: Ø160 | E4: Ø200 | F4: Ø315
C5: 6 | E5: ='6'!D121 -> 2111.5 | F5: ='6'!E121 -> 381.09 | H5: =D5+E5+F5 -> 2492.59
C6: 8 | E6: ='8'!D50 -> 955.98 | F6: ='8'!E50 -> 84.77 | H6: =D6+E6+F6 -> 1040.75
C7: 9 | D7: ='9'!D117 -> 1311.8 | E7: ='9'!E117 -> 468.16 | H7: =D7+E7+F7 -> 1779.96
C8: 10 | D8: ='10'!D76 -> 570.28 | E8: ='10'!E76 -> 717.81 | H8: =D8+E8+F8 -> 1288.09
C9: 11 | D9: ='11+12'!J63 -> 487.55 | E9: ='11+12'!J64 -> 912.55 | F9: ='11+12'!J65 -> 73.84 | H9: =D9+E9+F9 -> 1473.94
C10: 15 | D10: ='15'!D17 -> 121.87 | E10: ='15'!E17 -> 106.87 | F10: ='15'!F17 -> 15.21 | H10: =D10+E10+F10 -> 243.95
C11: 16 | D11: ='16'!D36 -> 215.05 | E11: ='16'!E36 -> 172.14 | H11: =D11+E11+F11 -> 387.19
C12: 17 | D12: ='17'!D95 -> 496.84 | E12: ='17'!E95 -> 171.6 | H12: =D12+E12+F12 -> 668.44
C13: 18 | D13: ='18'!D371 -> 1800.09 | E13: ='18'!E371 -> 682.23 | H13: =D13+E13+F13 -> 2482.32
C14: 20 | D14: ='20'!D827 -> 4685.96 | E14: ='20'!E827 -> 1371.64 | F14: ='20'!F827 -> 73.2 | H14: =D14+E14+F14 -> 6130.8
C15: 21 | D15: ='21'!D376 -> 1903.75 | E15: ='21'!E376 -> 390.13 | H15: =D15+E15+F15 -> 2293.88
C16: 22 | D16: ='22'!D482 -> 3074.15 | E16: ='22'!E482 -> 1277.97 | H16: =D16+E16+F16 -> 4352.12
C17: Razem: | D17: =SUM(D5:D16) -> 14667.34 | E17: =SUM(E5:E16) -> 9338.58 | F17: =SUM(F5:F16) -> 628.11 | H17: =SUM(H5:H16) -> 24634.03
C20: OGÓŁEM: | E20: =D17+E17+F17 -> 24634.03

Sheet 6
A1: Arkusz 6
A2: Lp. | B2: Od studni | C2: do studni | D2: fi200 | E2: fi315
A3: 1. | B3: G685A.1 | C3: G685A | D3: 21.16
A4: 2. | B4: G687 | C4: G688 | D4: 31.87
A5: 3. | B5: G722 | C5: G721 | D5: 27.83
A6: 4. | B6: G721 | C6: G720 | D6: 19.55
A7: 5. | B7: G670 | C7: G671.A | D7: 39.37
A8: 6. | B8: G671A | C8: G671 | D8: 5.58
A9: 7. | B9: G671 | C9: G672 | D9: 21.3
A10: 8. | B10: G374 | C10: G373 | D10: 22.83
A11: 9. | B11: G189 | C11: G189.1 | D11: 16.6
A12: 10. | B12: G176 | C12: G175 | D12: 17.1
A13: 11. | B13: G489 | C13: G489.1 | D13: 17.51
A14: 12. | B14: G488 | C14: G488.1 | D14: 33.09
... A18: 16. | B18: G233 | C18: G231.A | D18: 25.47
A19: 17. | B19: P271 | C19: P270 | E19: 23.09
A20: 18. | B20: P270 | C20: P269 | E20: 14.43
A21: 19. | B21: P318 | C21: P270 | D21: 18.19
A22: 20. | B22: P30 | C22: P31 | D22: 7.15
A23: 21. | B23: P31 | C23: P32 | D23: 36.67
A24: 22. | B24: P316.4 | C24: P316.3 | D24: 11.29
A25: 23. | B25: P316.3 | C25: P316.1A | D25: 7.3
A26: 24. | B26: P642 | C26: P642A | D26: 18.18
A27: 25. | B27: P291.7 | C27: P291.6 | D27: 24.88
A28: 26. | B28: P291. | C28: P291.4 | D28: 10.86
A29: 27. | B29: P359 | C29: P360 | D29: 36.77
A30: 28. | B30: P1/B6A | C30: P1/B7 | D30: 33.1
A31: 29. | B31: T267 | C31: T267A | D31: 42.24
A32: 30. | B32: T235 | C32: T235A | D32: 23.18
... A91: 89. | B91: Ł134 | C91: Ł135 | D91: 30.65
A92: 90. | B92: Ł26.1 | C92: Ł26 | E92: 19.68
A93: 91. | B93: Ł686 | C93: Ł685.1 | D93: 19.07
A94: 92. | B94: Ł89.10 | C94: Ł89.9 | D94: 18.54
A95: 93. | B95: Ł89.4 | C95: Ł89.3 | D95: 13.83
A96: 94. | B96: Ł89.3 | C96: Ł89.3.1 | D96: 10.82
A97: 95. | B97: Ł89.3.1 | C97: Ł89.2 | D97: 10.56
A98: 96. | B98: Ł89.2 | C98: Ł89.1 | D98: 9.88
A99: 97. | B99: Ł406 | C99: Ł405 | D99: 21.44
A100: 98. | B100: Ł405 | C100: Ł404 | D100: 11.93
A101: 99. | B101: Ł402 | C101: Ł401A | D101: 19.05
A102: 100. | B102: Ł397 | C102: Ł396 | D102: 33.19
A103: 101. | B103: Ł696 | C103: Ł695 | D103: 19.41
A104: 102. | B104: Ł695 | C104: Ł694 | D104: 5.83
A105: 103. | B105: Z127 | C105: Z126 | E105: 48.15
A106: 104. | B106: Z126 | C106: Z125 | E106: 42.95
A107: 105. | B107: Z125 | C107: Z124 | E107: 39.65
A108: 106. | B108: Z124 | C108: Z123 | E108: 19.07
A109: 107. | B109: Z123 | C109: Z122 | E109: 17.13
A110: 108. | B110: Z122 | C110: Z121 | E110: 43.34
A111: 109. | B111: Z121 | C111: Z120 | E111: 14.88
A112: 110. | B112: Z120 | C112: Z119 | E112: 26.06
A113: 111. | B113: Z119 | C113: Z118 | E113: 31.51
A114: 112. | B114: Z118 | C114: Z9 | E114: 41.15
A115: 113. | B115: Z381 | C115: Z382 | D115: 4.75
A116: 114. | B116: Z192 | C116: Z191 | D116: 8.83
A117: 115. | B117: Z191 | C117: Z190 | D117: 20.79
A118: 116. | B118: T210 | C118: T210A | D118: 4.15
A119: 117. | B119: T210A | C119: T211 | D119: 10.76
A120: 118. | B120: T210A | C120: T210.1 | D120: 24.27
D121: =SUM(D3:D120) -> 2111.5 | E121: =SUM(E3:E120) -> 381.09 | F121: =D121+E121 -> 2492.59

Sheet 8
A1: Arkusz 8
A2: Lp. | B2: Od studni | C2: do studni | D2: fi200 | E2: fi315
A3: 1. | B3: G338.19 | C3: G338.18 | D3: 9.28
A4: 2. | B4: G828 | C4: G830 | D4: 8.09
A5: 3. | B5: G778 | C5: G778.1 | D5: 23.27
A6: 4. | B6: G631 | C6: G631.1 | D6: 6.5
A7: 5. | B7: G631.1 | C7: G631.2 | D7: 24.19
A8: 6. | B8: G351 | C8: G352 | D8: 32.01
A9: 7. | B9: G355 | C9: G355B | D9: 10.89
A10: 8. | B10: G718 | C10: G719 | D10: 12.04
A11: 9. | B11: G306 | C11: G308 | D11: 30.38
A12: 10. | B12: G308 | C12: G307 | D12: 18.02
A13: 11. | B13: Ł380 | C13: E | D13: 47.1
A14: 12. | B14: Ł253.2 | C14: PI | D14: 6.7
... A43: 41. | B43: L30 | C43: L31 | D43: 25.37
A44: 42. | B44: P475 | C44: P476 | E44: 12.6
A45: 43. | B45: P492 | C45: P493 | E45: 37.28
A46: 44. | B46: P494 | C46: P495 | E46: 34.89
A47: 45. | B47: L688 | C47: L687 | D47: 44.27
A48: 46. | B48: Ł279.1 | C48: Ł279 | D48: 21.39
A49: 47. | B49: Z100 | C49: Z100A | D49: 23.79
D50: =SUM(D3:D49) -> 955.98 | E50: =SUM(E3:E49) -> 84.77 | F50: =D50+E50 -> 1040.75

Sheet 9
A1: Arkusz 9
A2: Lp. | B2: Od studni | C2: do studni | D2: fi160 | E2: fi200
A3: 1. | B3: G398.4 | C3: G398.5 | D3: 9.17
A4: 2. | B4: G403 | C4: G403.1 | D4: 30
A5: 3. | B5: L22 | C5: L22.1 | D5: 32.96
A6: 4. | B6: L710 | C6: L710.1 | D6: 9.12
A7: 5. | B7: L715 | C7: L715.1 | D7: 5.7
A8: 6. | B8: L745 | C8: L745.1 | D8: 11.17
A9: 7. | B9: L740.1 | C9: L740 | D9: 5.06
A10: 8. | B10: L604 | C10: L604.1 | D10: 18.94
A11: 9. | B11: L605 | C11: L605.1 | D11: 8.67
A12: 10. | B12: L606 | C12: L606.1 | D12: 49.93
A13: 11. | B13: L606' | C13: L606.3 | D13: 5.98
A14: 12. | B14: L607.1 | C14: L607.2 | D14: 5.78
... A20: 18. | B20: G392 | C20: G392.1 | D20: 5.9
A21: 19. | B21: L618 | C21: L619 | E21: 28.83
A22: 20. | B22: L597 | C22: L598 | E22: 43.66
A23: 21. | B23: L601 | C23: L602 | E23: 8.62
A24: 22. | B24: Ł484 | C24: Ł485.1 | D24: 13.35
A25: 23. | B25: Ł214 | C25: Ł214.1 | D25: 23.11
A26: 24. | B26: Ł94 | C26: Ł94.1 | D26: 13.58
A27: 25. | B27: Ł483 | C27: Ł484 | E27: 34.91
A28: 26. | B28: Ł351 | C28: Ł352 | E28: 12.7
A29: 27. | B29: Z338 | C29: Z338.1 | D29: 15.33
A30: 28. | B30: Z340 | C30: Z340.1 | D30: 21.55
A31: 29. | B31: Z340A | C31: Z340A.1 | D31: 14.61
A32: 30. | B32: Z341.1 | C32: Z341.2 | D32: 32.48
A33: 31. | B33: Z341.1 | C33: Z341.3 | D33: 36.34
A34: 32. | B34: Z73 | C34: Z73.1 | D34: 23.69
A35: 33. | B35: Z331.1 | C35: Z331.1.1 | D35: 15.24
A36: 34. | B36: Z166 | C36: Z166.1 | D36: 15.47
A37: 35. | B37: Z341 | C37: Z341.1 | E37: 13.71
A38: 36. | B38: P662.1 | C38: P662.2 | D38: 6.59
A39: 37. | B39: P216.1 | C39: P216.1A | D39: 19.94
A40: 38. | B40: P475 | C40: P475.1 | D40: 15.18
A41: 39. | B41: P503 | C41: P503.1 | D41: 20.79
A42: 40. | B42: P559 | C42: P559.1 | D42: 17.9
A43: 41. | B43: P560 | C43: P560.1 | D43: 20.86
A44: 42. | B44: P541 | C44: P541.1 | D44: 10.12
A45: 43. | B45: P549 | C45: P549.1 | D45: 16.61
A46: 44. | B46: P547.1 | C46: P547.1a | D46: 20.83
A47: 45. | B47: P495.2 | C47: P495.1B | E47: 7.89
A48: 46. | B48: P495.1B | C48: P495.3 | E48: 30.85
A49: 47. | B49: P495.3 | C49: P495.5 | E49: 19.23
A50: 48. | B50: P495.5 | C50: P495.6 | E50: 11.06
A51: 49. | B51: P495.6 | C51: P495.7 | E51: 32.63
A52: 50. | B52: P492 | C52: P491.1 | E52: 9.01
A53: 51. | B53: P537 | C53: P539.1 | E53: 7.46
A54: 52. | B54: P539.1 | C54: P539.3 | E54: 21.89
A55: 53. | B55: P539.3 | C55: P539.4 | E55: 8.5
A56: 54. | B56: P539.4 | C56: P539.5 | E56: 8.44
A57: 55. | B57: P539.5 | C57: P539.6 | E57: 16.48
A58: 56. | B58: P539.6 | C58: P539.7 | E58: 28.3
... A64: 62. | B64: P542 | C64: P543 | E64: 28.53
A65: 63. | B65: B140 | C65: B140.1 | D65: 4.84
A66: 64. | B66: B139.3 | C66: B139.3A | D66: 16.58
A67: 65. | B67: B139.3 | C67: B139.1 | D67: 13.26
A68: 66. | B68: B3.3.1 | C68: B3.3 | D68: 11.89
A69: 67. | B69: B3.4 | C69: B3.4.1 | D69: 12.36
A70: 68. | B70: B3.6 | C70: B3.6A | D70: 10.38
A71: 69. | B71: B3.7 | C71: B3.7A | D71: 15.06
A72: 70. | B72: B3.11 | C72: B.3.11A | D72: 7.38
A73: 71. | B73: B3.12 | C73: B3.13 | D73: 11.23
A74: 72. | B74: B226 | C74: B226.1 | D74: 4.36
A75: 73. | B75: B227 | C75: B227.1 | D75: 6.08
A76: 74. | B76: B203 | C76: B202.1A | D76: 8.11
... A115: 113. | B115: B290.H | C115: B290H1 | D115: 22.78
A116: 114. | B116: B48.4 | C116: B48.5 | E116: 22.36
D117: =SUM(D3:D116) -> 1311.8 | E117: =SUM(E3:E116) -> 468.16 | F117: =D117+E117 -> 1779.96

Sheet 10
A1: Arkusz 10
A2: Lp. | B2: Od studni | C2: do studni | D2: fi160 | E2: fi200
A3: 1. | B3: L80 | C3: L79 | E3: 20.98
A4: 2. | B4: L79 | C4: L78 | E4: 24.58
A5: 3. | B5: G790.9 | C5: G790.6 | E5: 16.1
A6: 4. | B6: G333A | C6: G332 | E6: 15.54
A7: 5. | B7: G654A | C7: G657A | E7: 19.84
A8: 6. | B8: G656 | C8: G657 | E8: 42.39
A9: 7. | B9: L627 | C9: L628 | E9: 35.99
A10: 8. | B10: Z133 | C10: Z133.1 | D10: 5.22
A11: 9. | B11: Ł316 | C11: Ł316.1 | D11: 15.39
A12: 10. | B12: Ł316.1 | C12: Ł316.2 | D12: 17.18
A13: 11. | B13: Ł311 | C13: Ł311.1 | D13: 15.43
A14: 12. | B14: B280.3 | C14: B280.3A | D14: 5.38
A15: 13. | B15: B205 | C15: B204 | E15: 20.6
A16: 14. | B16: B204 | C16: B203 | E16: 25.74
A17: 15. | B17: B203 | C17: B202 | E17: 24.2
A18: 16. | B18: B166 | C18: B166A | D18: 7.55
A19: 17. | B19: B166.1 | C19: B166.1A | D19: 8.97
A20: 18. | B20: B169 | C20: B169A | D20: 4.96
A21: 19. | B21: B170 | C21: B170A | D21: 35.67
A22: 20. | B22: B170 | C22: B171A | E22: 32.24
A23: 21. | B23: B233 | C23: B233A | D23: 18.62
A24: 22. | B24: B235.1 | C24: B235.1A | D24: 59.81
A25: 23. | B25: B234.2 | C25: B234.2A | D25: 4.67
A26: 24. | B26: B234.4 | C26: B234.4A | D26: 10.2
A27: 25. | B27: B234.8 | C27: B234.9 | E27: 13.32
A28: 26. | B28: B234.8 | C28: B234.8A | D28: 4.77
A29: 27. | B29: B239 | C29: B239A | D29: 5.1
A30: 28. | B30: B243 | C30: B234A | D30: 3.72
A31: 29. | B31: P5/B5.2 | C31: P5/B5.3 | D31: 12.83
A32: 30. | B32: P5/B8 | C32: P5/B8.A | D32: 14.46
A33: 31. | B33: B62 | C33: B62.1 | D33: 11.76
A34: 32. | B34: B41.2 | C34: B41.1A | D34: 7.46
A35: 33. | B35: B44 | C35: B44.1 | D35: 9.65
A36: 34. | B36: B46 | C36: B46.1 | D36: 7.15
A37: 35. | B37: B105A | C37: B105B | D37: 11.94
A38: 36. | B38: B115 | C38: B115.1 | E38: 38.42
A39: 37. | B39: B58.1 | C39: B56.2 | E39: 45.88
A40: 38. | B40: B196 | C40: B196.1 | D40: 16.73
A41: 39. | B41: B197 | C41: B197A | D41: 10.63
A42: 40. | B42: B56.2.1 | C42: B56.2.1A | D42: 8.94
A43: 41. | B43: B117.1 | C43: B117.1A | D43: 3.59
A44: 42. | B44: B122 | C44: B122A | D44: 28.53
A45: 43. | B45: B123 | C45: B123A | D45: 5.98
A46: 44. | B46: B124 | C46: B124A | D46: 8.96
A47: 45. | B47: P11/B257.1 | C47: P11/B257.2 | D47: 14.78
A48: 46. | B48: P12/B280 | C48: P12/B280.1 | D48: 18.76
A49: 47. | B49: B315.1 | C49: B315.2 | E49: 15.71
A50: 48. | B50: B282 | C50: B282A | E50: 31
A51: 49. | B51: T185.1A | C51: T185.1B | D51: 12.87
A52: 50. | B52: T578 | C52: T578A | D52: 20.04
A53: 51. | B53: T578.5A | C53: T578.5A.1 | D53: 28.04
A54: 52. | B54: T578.3 | C54: T578.3A | D54: 8.22
A55: 53. | B55: Ł420 | C55: Ł420.1 | D55: 29.5
A56: 54. | B56: Ł409 | C56: Ł409.1 | D56: 14.35
A57: 55. | B57: Ł296 | C57: Ł296.1 | D57: 17.55
A58: 56. | B58: Ł298 | C58: Ł297 | E58: 27
A59: 57. | B59: P278.5 | C59: P278.4 | E59: 14.6
A60: 58. | B60: P278.4 | C60: P278A | E60: 12.7
A61: 59. | B61: P278A | C61: P277 | E61: 7.45
A62: 60. | B62: P278A | C62: P278.1 | E62: 13.53
A63: 61. | B63: P278.2 | C63: P278.3 | E63: 7.73
A64: 62. | B64: P373 | C64: P16 | D64: 13.71
A65: 63. | B65: P75.2 | C65: P77.1 | E65: 19.02
A66: 64. | B66: P502.1A | C66: P502.1 | E66: 31.06
A67: 65. | B67: P198 | E67: 24.39
A68: 66. | B68: P199 | C68: P200 | E68: 9.64
A69: 67. | B69: P201 | C69: P201.1 | D69: 11.21
A70: 68. | B70: P18 | C70: P18.B | E70: 13.27
A71: 69. | B71: P577 | C71: P578 | E71: 24.14
A72: 70. | B72: P578 | C72: P581 | E72: 52.61
A73: 71. | B73: P216.3 | C73: P216.4 | E73: 6.44
A74: 72. | B74: P216.4 | C74: P216.5 | E74: 5.32
A75: 73. | B75: P276a | C75: P276A | E75: 26.38
D76: =SUM(D3:D75) -> 570.28 | E76: =SUM(E3:E75) -> 717.81 | F76: =D76+E76 -> 1288.09

Sheet 11+12
A1: Arkusz 11
A2: Lp. | B2: Od studni | C2: do studni | D2: fi160 | E2: fi200
A3: 1. | B3: L368.4 | C3: L368.5 | E3: 47.57
A4: 2. | B4: L67A | C4: L67 | E4: 23.86
A5: 3. | B5: G799A | C5: G799 | E5: 13.95
A6: 4. | B6: G820D | C6: G820C | E6: 24.25
A7: 5. | B7: G307.5 | C7: G307 | E7: 24.09
A8: 6. | B8: Ł616.1 | C8: Ł616.2 | E8: 11.46
A9: 7. | B9: Ł665 | C9: Ł666 | E9: 20.2
A10: 8. | B10: Ł534.A | C10: Ł534 | E10: 44.91
A11: 9. | B11: P204 | C11: P204.1 | D11: 21.07
A12: 10. | B12: P405F.3 | C12: P405F.2 | D12: 15.17
A13: 11. | B13: P45F.2 | C13: P405F.1 | D13: 27.06
A14: 12. | B14: P219 | C14: P219.1 | D14: 7.95
A15: 13. | B15: P219.1 | C15: P219.2 | D15: 34.98
A16: 14. | B16: P519 | C16: P519.1 | D16: 14.21
A17: 15. | B17: P523’ | C17: P523’1 | D17: 4.64
A18: 16. | B18: P523’.2 | C18: P523.’3 | D18: 9.41
A19: 17. | B19: P523’.3 | C19: P523’4 | D19: 2.66
A20: 18. | B20: P523’.4 | C20: P523’.5 | D20: 27.83
A21: 19. | B21: P574 | C21: P574.1 | D21: 9.7
A22: 20. | B22: P575 | C22: P575.1 | D22: 31.95
A23: 21. | B23: B11 | C23: B12 | E23: 26.12
A24: 22. | B24: B266 | C24: B265.1 | E24: 17.98
A25: 23. | B25: B266 | C25: B267 | E25: 12.11
A26: 24. | B26: B267 | C26: B267A | E26: 32.26
A27: 25. | B27: B267A | C27: B267B | E27: 11.48
A28: 26. | B28: B267 | C28: B268 | E28: 7.21
A29: 27. | B29: B268 | C29: B269 | E29: 29.91
A30: 28. | B30: B269 | C30: B270 | E30: 27.03
A31: 29. | B31: B2A | C31: B2 | E31: 18.71
A32: 30. | B32: B2 | C32: B2.1 | D32: 26.99
D33: =SUM(D3:D32) -> 233.62 | E33: =SUM(E3:E32) -> 393.1 | F33: =D33+E33 -> 626.72
A34: Arkusz 12
A35: Lp. | B35: Od studni | C35: do studni | D35: fi160 | E35: fi200 | F35: fi315
A36: 1. | B36: Ł723.5 | C36: G1 | E36: 71.32
A37: 2. | B37: Ł384 | C37: Ł384.2 | E37: 17.07
A38: 3. | B38: G529.1 | C38: G529 | E38: 45.1
A39: 4. | B39: G784B | C39: G784C | D39: 16.18
A40: 5. | B40: G784C | C40: G784D | D40: 31.78
A41: 6. | B41: G634 | C41: G634.1 | D41: 16.18
A42: 7. | B42: G659B | C42: G659C | D42: 21.77
A43: 8. | B43: L493 | C43: L493.1 | E43: 27.6
A44: 9. | B44: L188 | C44: L188.1 | D44: 39.58
A45: 10. | B45: G297 | C45: G319A | E45: 13.27
A46: 11. | B46: G806 | C46: G807 | E46: 19.04
A47: 12. | B47: Ł95 | C47: Ł94 | F47: 16.99
A48: 13. | B48: Ł95 | C48: Ł95.1 | F48: 3.32
A49: 14. | B49: Ł95.1 | C49: Ł96 | F49: 26.9
A50: 15. | B50: Ł96 | C50: Ł97 | F50: 18.28
A51: 16. | B51: Ł98 | C51: Ł98.1 | F51: 8.35
A52: 17. | B52: Ł124.3 | C52: Ł123.4 (Ł124.4) | E52: 21.13
A53: 18. | B53: Ł96 | C53: Ł96.1 | E53: 13.63
A54: 19. | B54: Ł96.1 | C54: Ł96.2 | E54: 7.13
A55: 20. | B55: Ł97 | C55: Ł97.1 | E55: 18.21
A56: 21. | B56: Ł97.1 | C56: Ł97.2 | E56: 32.19
A57: 22. | B57: Ł670 | C57: Ł670.1 | E57: 24.87
A58: 23. | B58: Ł95 | C58: Ł95.2 | D58: 28.74
A59: 24. | B59: Ł364 | C59: Ł365 | E59: 9.93
A60: 25. | B60: Ł124 | C60: Ł124.1 | D60: 30.25
A61: 26. | B61: Ł124.1 | C61: Ł124.2 | D61: 13.29
A62: 27. | B62: Ł129 | C62: Ł129.1 | D62: 13.82 | I62: SUMA 11 i 12
A63: 28. | B63: Ł130 | C63: Ł130.1 | D63: 18.04 | I63: fi 160 | J63: =D33+D75 -> 487.55
A64: 29. | B64: Ł131 | C64: Ł131.1 | D64: 14.14 | I64: fi 200 | J64: =E33+E75 -> 912.55
A65: 30. | B65: P655 | C65: P655.1 | D65: 10.16 | I65: fi 315 | J65: =F75 -> 73.84
A66: 31. | B66: P132 | C66: P152 | E66: 31.45 | J66: =SUM(J63:J65) -> 1473.94
A67: 32. | B67: P200 | C67: P201 | E67: 31.94
A68: 33. | B68: P201 | C68: P201A | E68: 16.99
A69: 34. | B69: P254.1A | C69: P254.1 | E69: 32.35
A70: 35. | B70: P201B | C70: P201A | E70: 8.26
A71: 36. | B71: P650 | C71: P651 | E71: 22.43
A72: 37. | B72: P604 | C72: P439 | E72: 28.51
A73: 38. | B73: P555 | C73: P555.1 | E73: 10.71
A74: 39. | B74: P278.1 | C74: P278.2 | E74: 16.32
D75: =SUM(D36:D74) -> 253.93 | E75: =SUM(E36:E74) -> 519.45 | F75: =SUM(F36:F74) -> 73.84 | G75: =D75+E75+F75 -> 847.22

Sheet 15
A1: Arkusz 15
A2: Lp. | B2: Od studni | C2: do studni | D2: fi160 | E2: fi200 | F2: fi315
A3: 1. | B3: L1A | C3: L1A1 | D3: 17
A4: 2. | B4: G635A | C4: G635B | D4: 8.72
A5: 3. | B5: G636 | C5: G636A | D5: 17.58
A6: 4. | B6: G636A | C6: G636B | D6: 5.53
A7: 5. | B7: G641 | C7: G641A | D7: 32.44
A8: 6. | B8: G368 | C8: G368.1 | D8: 25.51
A9: 7. | B9: G777 | C9: G776 | E9: 19.81
A10: 8. | B10: G778 | C10: G777 | E10: 27.16
A11: 9. | B11: Ł425 | C11: Ł425.1 | D11: 10.1
A12: 10. | B12: Ł424 | C12: Ł425 | E12: 30.27
A13: 11. | B13: P539.12 | C13: P539.12.1 | D13: 4.99
A14: 12. | B14: P539.11 | C14: P539.12 | E14: 18.77
A15: 13. | B15: Z1 | C15: Z2 | E15: 10.86
A16: 14. | B16: Z7 | C16: Z8 | F16: 15.21
D17: =SUM(D3:D16) -> 121.87 | E17: =SUM(E3:E16) -> 106.87 | F17: =SUM(F3:F16) -> 15.21 | G17: =D17+E17+F17 -> 243.95

Sheet 16
A1: Arkusz 16
A2: Lp. | B2: Od studni | C2: do studni | D2: fi160 | E2: fi200
A3: 1. | B3: L257.3 | C3: L257,3A | D3: 4.41
A4: 2. | B4: L267 | C4: L267A | D4: 16.06
A5: 3. | B5: L268,1 | C5: L268,2 | D5: 17.88
A6: 4. | B6: G226A1 | C6: G226A2 | D6: 5.24
A7: 5. | B7: G650 | C7: G650,1 | D7: 15.37
A8: 6. | B8: G776 | C8: G776A | D8: 4.79
A9: 7. | B9: G776 | C9: G776B | D9: 7.46
A10: 8. | B10: G649 | C10: G649.1 | D10: 4.62
A11: 9. | B11: G777 | C11: G777.1 | D11: 14.82
A12: 10. | B12: G218 | C12: G218A | D12: 15.2
A13: 11. | B13: G221 | C13: G221A | D13: 12.43
A14: 12. | B14: G624 | C14: G624.1 | D14: 7.91
... A20: 18. | B20: G378 | C20: G378A | D20: 10.53
A21: 19. | B21: Z7 | C21: T1 | E21: tłoczny
A22: 20. | B22: T1 | C22: St.odwodnieniowa | E22: tłoczny
A23: 21. | B23: Z1 | C23: Z2 | E23: tłoczny
A24: 22. | B24: Z2 | C24: P18 | E24: tłoczny
A25: 23. | B25: G326 | C25: G327 | E25: 9.59
A26: 24. | B26: G327 | C26: G327A | E26: 26.88
A27: 25. | B27: G327.3 | C27: G327.3A | D27: 2.69
A28: 26. | B28: Ł112 | C28: Ł111.2 | E28: 23.91
A29: 27. | B29: P18 | C29: P577 | E29: 5.3
A30: 28. | B30: P18 | C30: P572A | E30: 16.34
A31: 29. | B31: P31 | C31: P5A | E31: tłoczny
A32: 30. | B32: P198 | C32: P168A | E32: 27.08
A33: 31. | B33: P168A | C33: P168 | E33: 8.19
A34: 32. | B34: Z7 | C34: Z7A | E34: 24.42
A35: 33. | B35: Z7A | C35: Z8A | E35: 30.43
D36: =SUM(D3:D35) -> 215.05 | E36: =SUM(E3:E35) -> 172.14 | F36: =D36+E36 -> 387.19

Sheet 17
A1: Arkusz 17
A2: Lp. | B2: Od studni | C2: do studni | D2: fi160 | E2: fi200
A3: 1. | B3: P339.1 | C3: P339.1A | D3: 4.9
A4: 2. | B4: P331.1 | C4: P331.1A | D4: 5.13
A5: 3. | B5: P329.2 | C5: P329.2A.A | D5: 7.12
A6: 4. | B6: P381.4A | C6: P381.4A.A | D6: 8.92
A7: 5. | B7: P3814.1A | C7: P381.1A.A | D7: 7.05
A8: 6. | B8: P297B.1 | C8: P297B.1.A | D8: 5.95
A9: 7. | B9: P310.2 | C9: P310.2.A | D9: 0.68
A10: 8. | B10: P303.1 | C10: P303.1.A | D10: 0.8
A11: 9. | B11: P294.3.1 | C11: P294.3.1.A | D11: 4.94
A12: 10. | B12: P316.1.1 | C12: P316.1.1A | D12: 1.01
A13: 11. | B13: P428,7A | C13: P4280,7A,A | D13: 3.02
A14: 12. | B14: P599I | C14: P599I.A | D14: 1.89
... A51: 49. | B51: P231.1.B | C51: P231.1B.A | D51: 2.8
A52: 50. | B52: L182 | C52: 182' | E52: 4.1
A53: 51. | B53: L182' | C53: L210 | E53: 16.46
A54: 52. | B54: L211 | C54: L211' | E54: 6.36
A55: 53. | B55: L211'' | C55: L212' | E55: 7.02
A56: 54. | B56: L213 | C56: L214 | E56: 11.38
A57: 55. | B57: L216' | C57: L216'' | E57: 24
A58: 56. | B58: L216'' | C58: B | D58: 6.7
A59: 57. | B59: L233A | C59: A | D59: 3.15
A60: 58. | B60: P315.1 | C60: P315.2 | D60: 14.54
A61: 59. | B61: P600 | C61: P600.1 | D61: 13.09
A62: 60. | B62: P597 | C62: P597.1 | D62: 29.94
A63: 61. | B63: P630.2 | C63: P630.2` | D63: 7.69
A64: 62. | B64: P635 | C64: P635.1 | D64: 6.63
A65: 63. | B65: P637.3 | C65: P637.3.A | D65: 1
A66: 64. | B66: P646 | C66: P646.A | D66: 11.14
A67: 65. | B67: P681.2 | C67: P681.2.A | D67: 4.94
A68: 66. | B68: P700C.A | C68: P700C | D68: 3.08
A69: 67. | B69: P687.2 | C69: P687.2.A | D69: 4.35
... A82: 80. | B82: P231.1C | C82: P231.1CA | D82: 5.97
A83: 81. | B83: P206 | C83: P201A | D83: ns
A84: 82. | B84: L210 | C84: L211 | E84: 18.42
A85: 83. | B85: L211' | C85: L211' | E85: 18.45
A86: 84. | B86: L212' | C86: L213 | E86: 22.53
A87: 85. | B87: L216 | C87: L216' | E87: 31.22
A88: 86. | B88: L216'' | C88: B | D88: 6.7
A89: 87. | B89: L216'' | C89: L233 | E89: 11.66
A90: 88. | B90: A | C90: L239.2 | D90: 7.72
A91: 89. | B91: P623 | C91: P623.1 | D91: 6.73
A92: 90. | B92: P597 | C92: P597.3 | D92: 12.8
A93: 91. | B93: P593A | C93: P593B | D93: 13.58
A94: 92. | B94: P630. | C94: P630.3 | D94: 9.43
D95: =SUM(D3:D94) -> 496.84 | E95: =SUM(E3:E94) -> 171.6 | F95: =D95+E95 -> 668.44

Sheet 18
A1: Arkusz 18
A2: Lp. | B2: Od studni | C2: do studni | D2: fi160 | E2: fi200
A3: 1. | B3: A | C3: L640.1 | E3: 23.77
A4: 2. | B4: G200A.1 | C4: G200A.1.1 | D4: 10.99
A5: 3. | B5: G200A.2 | C5: G200A.2.1 | D5: 12.36
A6: 4. | B6: L425.1 | C6: L425.1A | D6: 4.98
A7: 5. | B7: L531.3 | C7: L531.4 | D7: 9.25
A8: 6. | B8: G5.27 | C8: G5.27A | D8: 16.82
A9: 7. | B9: G5.71 | C9: G5.72 | E9: 13.42
A10: 8. | B10: G5.72 | C10: G5.73 | E10: 51.26
A11: 9. | B11: Ł401C | C11: Ł401C.1 | E11: 45.88
A12: 10. | B12: Ł583.7 | C12: Ł583.8 | D12: 8.58
A13: 11. | B13: Ł522.1a | C13: Ł522.1 | D13: 5.95
A14: 12. | B14: Ł527.1 | C14: Ł527.1' | D14: 10.47
A15: 13. | B15: Ł527B | C15: Ł527B' | D15: 5.98
A16: 14. | B16: P25 | C16: P25A | D16: 19.71
A17: 15. | B17: Z10.1 | C17: Z11.A | E17: 12.23
A18: 16. | B18: Z10 | C18: Z10.1 | E18: 4.41
A19: 17. | B19: Z23 | C19: Z23A | D19: 12.9
A20: 18. | B20: Z8.1 | C20: Z9 | E20: 12.63
A21: 19. | B21: Z8A | C21: Z8.1 | E21: 9.17
A22: 20. | B22: Z9 | C22: Z10 | E22: 46.09
A23: 21. | B23: Z9 | C23: Z9.1 | E23: 23.29
A24: 22. | B24: Z41.1.A | C24: Z41.1.B | E24: 34.77
A25: 23. | B25: Z41.1.B | C25: Z41.1.B' | E25: 5.39
A26: 24. | B26: P119.3a | C26: P119.3 | D26: 6.2
A27: 25. | B27: P120.1 | C27: P120.2 | D27: 6.28
A28: 26. | B28: P254.1 | C28: P254.4 | D28: 17.03
A29: 27. | B29: P255 | C29: P255.1 | D29: 8.35
A30: 28. | B30: P266.1a | C30: P266.1 | D30: 4.76
A31: 29. | B31: P273.2a | C31: P273.2 | D31: 9.7
A32: 30. | B32: P276A | C32: P276A.1 | D32: 2.89
A33: 31. | B33: P287.1 | C33: P287.1' | D33: 4.09
A34: 32. | B34: P502.12 | C34: P502.12a | D34: 4.81
A35: 33. | B35: P509.1 | C35: P509.1'' | D35: 3.8
A36: 34. | B36: P510.1 | C36: P510.2 | D36: 11.86
A37: 35. | B37: P510.2 | C37: P510.2' | D37: 6.49
... A190: 188. | B190: B76.2 | C190: B76.2' | D190: 14.64
A191: 189. | B191: B40.A | C191: B40.A1 | E191: 3.37
A192: 190. | B192: B46A | C192: B46B | E192: 16.96
A193: 191. | B193: B2 | C193: B3 | E193: 19.77
A194: 192. | B194: P11/B253.F | C194: P11/B253.E | E194: 14.21
A195: 193. | B195: P11/B253.E | C195: P11/B253.D | E195: 16.66
A196: 194. | B196: P11/B253.D | C196: P11/B253.C | E196: 12.71
A197: 195. | B197: P11/B253 | C197: P11/B241 | E197: 28.89
A198: 196. | B198: P11/B254 | C198: P11/B253 | E198: 16.23
A199: 197. | B199: P11/B255 | C199: P11/B254 | E199: 4.52
A200: 198. | B200: P11/B256 | C200: P11/B255 | E200: 44.97
A201: 199. | B201: P11/B257 | C201: P11/B256 | E201: 31.12
A202: 200. | B202: P11/B258 | C202: P11/B257 | E202: 30.78
... A206: 204. | B206: P11/B262 | C206: P11/B261 | E206: 35.9
A207: 205. | B207: B285.A | C207: B285.A.b | D207: 2.61
A208: 206. | B208: P1/B30 | C208: P1/B30.a | D208: 2.6
A209: 207. | B209: P1/B27.1 | C209: P1/B27.1.a | D209: 7.57
A210: 208. | B210: P1/B23.2 | C210: P1/B23.2.a | D210: 2.54
A211: 209. | B211: P1/B22.1 | C211: P1/B22.1.a | D211: 1.62
A212: 210. | B212: P1/B19 | C212: P1/B19.1 | D212: 5.69
A213: 211. | B213: P1/B19.1 | C213: P1/B19.1.a | D213: 13.89
A214: 212. | B214: P1/B17.1 | C214: P1/B17.1.a | D214: 5.17
A215: 213. | B215: P1/B16.1 | C215: P1/B16.1.a | D215: 14.01
A216: 214. | B216: P1/B13 | C216: P1/B13.a | D216: 1.68
A217: 215. | B217: P1/B13 | C217: P1/B13.a | D217: 1
A218: 216. | B218: P1/B10 | C218: P1/B10.a | D218: 7.71
... A270: 268. | B270: P7/B3A | C270: P7/B3A.a | D270: 2.14
A271: 269. | B271: B290 | C271: B290.2 | E271: 8.86
A272: 270. | B272: P11/B263 | C272: P11/B262 | E272: 20.81
A273: 271. | B273: P11/B264 | C273: P11/B263 | E273: 14.9
A274: 272. | B274: P11/B265 | C274: P11/B264 | E274: 12.75
A275: 273. | B275: B234.7A | C275: B234.7A' | D275: 3.12
A276: 274. | B276: B234.7A | C276: B234.7A' | D276: 2.72
A277: 275. | B277: B171A | C277: B171A' | D277: 7.5
A278: 276. | B278: B170A | C278: B170A' | D278: 5.19
A279: 277. | B279: B168A | C279: B168A' | D279: 1.04
A280: 278. | B280: B163 | C280: B163' | D280: 4.13
A281: 279. | B281: B162.1 | C281: B162.1' | D281: 3.48
A282: 280. | B282: B335.1 | C282: B335.1A | D282: 4.86
A283: 281. | B283: B335.1A | C283: B335.1A' | D283: 6.77
A284: 282. | B284: B234.4 | C284: B234.4' | D284: 2.33
A285: 283. | B285: B165.1A | C285: B165.1A' | D285: 3.37
A286: 284. | B286: P11/B255.1 | C286: P11/B255.1' | D286: 2.93
... A294: 292. | B294: B48A1 | C294: B48A1' | D294: 15.88
A295: 293. | B295: P12/B280.1 | C295: P12/B280.2 | E295: 5.55
A296: 294. | B296: P12/B280.2 | C296: P12/B280.2' | D296: 5.7
A297: 295. | B297: P12/B274 | C297: P12/B274' | D297: 2.72
A298: 296. | B298: P12/B274 | C298: P12/B274' | D298: 1.57
A299: 297. | B299: P12/B275.1' | C299: P12/B275.1 | D299: 12.18
A300: 298. | B300: P12/B276 | C300: P12/B276' | D300: 2.95
A301: 299. | B301: P12/B276 | C301: P12/B276' | D301: 8.88
A302: 300. | B302: B239A | C302: B239A' | D302: 7.11
A303: 301. | B303: B240 | C303: B240' | D303: 1
A304: 302. | B304: B240 | C304: B240' | D304: 2.47
A305: 303. | B305: B242A | C305: B242A' | D305: 1.3
A306: 304. | B306: B244A | C306: B244A' | D306: 2.15
A307: 305. | B307: B245A | C307: B245A' | D307: 4.2
... A370: 368. | B370: B78.1 | C370: B78.1.a | D370: 3.55
D371: =SUM(D3:D370) -> 1800.09 | E371: =SUM(E3:E370) -> 682.23 | F371: =D371+E371 -> 2482.32

Sheet 20
A1: Arkusz 20
A2: Lp. | B2: Od studni | C2: do studni | D2: fi160 | E2: fi200 | F2: fi315
A3: 1. | B3: G20' | C3: G21 | E3: 12.37
A4: 2. | B4: Ł693.1 | C4: Ł693.1' | D4: 34.57
A5: 3. | B5: G349.2 | C5: G351 | E5: 6.85
A6: 4. | B6: G351 | C6: G351' | E6: 11.02
A7: 5. | B7: G281.1 | C7: G281.1 | D7: 10.25
A8: 6. | B8: G361 | C8: G362 | E8: 19.67
A9: 7. | B9: G362 | C9: G362A | E9: 23.54
A10: 8. | B10: G391.6 | C10: G396.1.1 | D10: 8.89
A11: 9. | B11: P523'.1 | C11: P523'.1a | D11: 8.05
A12: 10. | B12: P491.3 | C12: P491.3' | D12: 0.5
A13: 11. | B13: Z365 | C13: Z366 | E13: 10.52
A14: 12. | B14: Z366 | C14: Z366.1 | E14: 12.17
A15: 13. | B15: Z366 | C15: Z367 | E15: 50.3
A16: 14. | B16: Ł679 | C16: Ł681 | E16: 36.77
A17: 15. | B17: Ł105.4 | C17: Ł105.3 | E17: 22.9
A18: 16. | B18: Ł105.3 | C18: Ł106 | F18: 33.4
A19: 17. | B19: P708B | C19: P708B.1 | D19: 8.5
A20: 18. | B20: P675.1 | C20: P675.1' | D20: 1.82
A21: 19. | B21: P641 | C21: P641' | D21: 15.05
A22: 20. | B22: P589 | C22: P589' | D22: 11.55
A23: 21. | B23: P395 | C23: P395' | D23: 10.82
A24: 22. | B24: P400 | C24: P400' | D24: 4.28
A25: 23. | B25: P587B | C25: P587B' | D25: 7.16
A26: 24. | B26: P572A.1 | C26: P572A.1' | D26: 3.81
A27: 25. | B27: P581 | C27: P581.1 | D27: 6.48
A28: 26. | B28: P581.1 | C28: P581.1' | D28: 4.45
A29: 27. | B29: P574.1 | C29: P574.1' | D29: 6.02
A30: 28. | B30: P575.1 | C30: P575.1' | D30: 8.92
... A65: 63. | B65: P211 | C65: P211' | D65: 4.35
A66: 64. | B66: Ł277 | C66: Ł278 | E66: 27.34
A67: 65. | B67: Ł278 | C67: Ł279 | E67: 27.54
A68: 66. | B68: L84 | C68: L85 | E68: 6.62
A69: 67. | B69: L86 | C69: L86.1 | D69: 8.76
A70: 68. | B70: L87 | C70: L87.1 | D70: 22
A71: 69. | B71: L87 | C71: L87.3 | E71: 10.2
A72: 70. | B72: L89.3 | C72: L92.4 | E72: 22.45
A73: 71. | B73: L90 | C73: L90.1 | E73: 37.84
A74: 72. | B74: L92.1 | C74: L92.2 | D74: 21.66
A75: 73. | B75: P231.1B.a | C75: P231.1B.a' | D75: 3.08
A76: 74. | B76: P231.1C.a | C76: P231.1C.a' | D76: 1.16
A77: 75. | B77: P240 | C77: P240.1 | D77: 15.2
A78: 76. | B78: P240.1 | C78: P240.1' | D78: 5.54
A79: 77. | B79: P245.3.1a | C79: P245.3.1a' | D79: 2.67
A80: 78. | B80: P251 | C80: P251' | D80: 8.47
A81: 79. | B81: Ł670.1 | C81: Ł97.3 | E81: 8.66
A82: 80. | B82: Ł97.3 | C82: Ł97.2 | E82: 35.4
A83: 81. | B83: Z29.1 | C83: Z29.2 | D83: 12.85
A84: 82. | B84: Z29.2 | C84: Z29.2' | D84: 3.47
A85: 83. | B85: Z31 | C85: Z31.1 | D85: 14.78
A86: 84. | B86: Z32.2 | C86: Z32.2.1 | D86: 9.6
A87: 85. | B87: Z273.1 | C87: Z273.1' | D87: 19.1
A88: 86. | B88: Z200.4 | C88: Z200.4' | D88: 9.21
A89: 87. | B89: P172A.1 | C89: P172A.1' | D89: 18.75
A90: 88. | B90: P172D | C90: P172D' | D90: 12.09
A91: 89. | B91: P172C.2 | C91: P172C.2' | D91: 3.77
A92: 90. | B92: Z22.1 | C92: Z22.1' | D92: 3.36
A93: 91. | B93: 13Z | C93: 13Z" | D93: 5.07
A94: 92. | B94: 10Z | C94: 10Z' | D94: 6.93
... A138: 136. | B138: L40.2 | C138: L40.2' | D138: 12.2
A139: 137. | B139: L42.1 | C139: L42.1' | D139: 6.09 | G139: str 2
A140: 138. | B140: Ł620 | C140: Ł620.1 | D140: 11.1
A141: 139. | B141: Ł620 | C141: Ł621 | E141: 29.56
A142: 140. | B142: Ł621 | C142: Ł622 | E142: 27.79
A143: 141. | B143: Ł621.1 | C143: Ł622.2 | E143: 21.07
A144: 142. | B144: Ł622.3 | C144: Ł622.4 | E144: 17.9
A145: 143. | B145: Ł622.4 | C145: Ł622.5 | E145: 14.6
A146: 144. | B146: Ł623 | C146: Ł623.1 | D146: 6.45
A147: 145. | B147: L67B | C147: L357 | E147: 19.28
A148: 146. | B148: L679.2 | C148: L679.2' | D148: 2.09
A149: 147. | B149: L680.3 | C149: L680.3' | D149: 3.55
A150: 148. | B150: L698 | C150: L698' | D150: 5.64
A151: 149. | B151: L700 | C151: L700' | D151: 9.43
A152: 150. | B152: L701.1 | C152: L701.1' | D152: 4.66
A153: 151. | B153: L706.1 | C153: L706.1' | D153: 3.99
A154: 152. | B154: L708.1A | C154: L708.1A | D154: 3.86
A155: 153. | B155: L747.1 | C155: L747.1' | D155: 3.42
A156: 154. | B156: L750.A | C156: L750.A' | D156: 4.11
A157: 155. | B157: L718.B | C157: L718.B' | D157: 7.84
A158: 156. | B158: L718.D | C158: L718.D' | D158: 6.98
A159: 157. | B159: L457.2.1 | C159: L457.2.1' | D159: 3.54
... A238: 236. | B238: L3A.2 | C238: L3A.2' | D238: 5.61
A239: 237. | B239: L6.1A | C239: L6.1B | E239: 17.55
A240: 238. | B240: L6.1B | C240: L6.1C | D240: 14.6
A241: 239. | B241: L6.1C | C241: L6.1C' | D241: 4.25
A242: 240. | B242: L6.2A | C242: L6.2B | E242: 14.65
A243: 241. | B243: L6.2B | C243: L6.2C | D243: 16.3
A244: 242. | B244: L6.2C | C244: L6.2C' | D244: 1.77
A245: 243. | B245: L424A | C245: L424A' | D245: 1.98
A246: 244. | B246: L387.1 | C246: L387.1' | D246: 1.33
A247: 245. | B247: L426 | C247: L426' | D247: 5.58
A248: 246. | B248: L427A | C248: L427A' | D248: 2.22
A249: 247. | B249: L464.2' | C249: L464.2 | D249: 5.33
A250: 248. | B250: L468.1 | C250: L468.1' | D250: 10.34
A251: 249. | B251: L471.1 | C251: L471.1' | D251: 3.9
A252: 250. | B252: L472.2 | C252: L472.2' | D252: 0.86
A253: 251. | B253: L425.2 | C253: L425.2.1 | D253: 12.69
A254: 252. | B254: L425.2.1 | C254: L425.2.1' | D254: 1.46
... A334: 332. | B334: L424.3 | C334: L424.3' | D334: 1.19
...

Sheet 21
A1: Arkusz 21
A2: Lp. | B2: Od studni | C2: do studni | D2: fi160 | E2: fi200
A3: 1. | B3: G425 | C3: G425z | D3: =6.08 -> 6.08
A4: 2. | B4: G425 | C4: G425z | D4: 7
A5: 3. | B5: G425z | C5: G425' | D5: 9.64
A6: 4. | B6: S5.1 | C6: S5.1z | D6: 5.26
A7: 5. | B7: S5.1z | C7: S5.1' | D7: 4.41
A8: 6. | B8: G400.1 | C8: G400.1' | D8: 5.46
A9: 7. | B9: S3.1 | C9: S3.1' | D9: 13.41
A10: 8. | B10: S2.1 | C10: S2.1 | D10: 9.59
A11: 9. | B11: L148 | C11: L149 | E11: 13.24
A12: 10. | B12: Ł107.1 | C12: Ł107.1' | D12: 1.77
A13: 11. | B13: Ł356A | C13: Ł357 | E13: 13.62
A14: 12. | B14: Ł357 | C14: Ł357.1 | E14: 9.46
A15: 13. | B15: Ł357.1 | C15: Ł357.1' | D15: 3.66
A16: 14. | B16: Ł357.1 | C16: Ł357.2 | E16: 8.08
A17: 15. | B17: Ł357.2 | C17: Ł357.2' | D17: 4.3
A18: 16. | B18: Ł357 | C18: L358B | E18: 23.69
A19: 17. | B19: Ł358B | C19: Ł358A | E19: 4.72
A20: 18. | B20: Ł358A | C20: Ł358A' | D20: 5.25
A21: 19. | B21: Ł358A | C21: Ł358 | E21: 6.08
A22: 20. | B22: Ł323.1 | C22: Ł323.1' | D22: 3.29
A23: 21. | B23: Z43 | C23: Z43' | D23: 15.33
A24: 22. | B24: Z43' | C24: Z43'' | D24: 3.05
A25: 23. | B25: Z42.2 | C25: Z42.2' | D25: 6.86
A26: 24. | B26: Z5 | C26: Z5.1 | D26: 4.28
A27: 25. | B27: ZP2.4' | C27: ZP2.4 | D27: 1.49
A28: 26. | B28: ZP2.4 | C28: ZP2.1 | D28: 0.78
A29: 27. | B29: Z36.1.3 | C29: Z36.1.1 | E29: 26.92
A30: 28. | B30: Z36.1.4 | C30: Z36.1.5 | E30: 13.59
A31: 29. | B31: Z36.1.8 | C31: Z36.1.7 | E31: 20.53
A32: 30. | B32: Z36.1.8 | C32: Z36.1.8A | D32: 11.85
A33: 31. | B33: L292.1 | C33: L292.1' | D33: 1.16
A34: 32. | B34: L292.1 | C34: L292.1' | D34: 9.12
A35: 33. | B35: L259.8D | C35: L259.8D' | D35: 4.8
A36: 34. | B36: G338.23.1 | C36: G338.23.1' | D36: 8.77
A37: 35. | B37: L147 | C37: L147A | E37: 47.98
A38: 36. | B38: L147A | C38: L147A.1 | D38: 12.26
A39: 37. | B39: L147A.1 | C39: L147A.1' | D39: 5.5
A40: 38. | B40: G823.1 | C40: G823.1' | D40: 1.74
A41: 39. | B41: L315 | C41: L315' | D41: 13.2
A42: 40. | B42: L361.2 | C42: L361.1 | D42: 10.75
A43: 41. | B43: G659C | C43: G659' | D43: 5.57
A44: 42. | B44: G657B | C44: G657B' | D44: 1.11
A45: 43. | B45: G677A | C45: G667A' | D45: 6.63
A46: 44. | B46: G685A.4 | C46: G685A.4z | D46: 7.33
A47: 45. | B47: G685A.4z | C47: G685A.4' | D47: 1.96
A48: 46. | B48: G726B | C48: G726B' | D48: 4.08
A49: 47. | B49: G338.13D | C49: G338.13 D' | D49: 8.74
... A109: 107. | B109: N37a | C109: N37a' | D109: 3.76
A110: 108. | B110: Z36.1.3 | C110: Z36.1.1 | E110: 26.92
A111: 109. | B111: Z36.1.4 | C111: Z36.1.5 | E111: 13.59
A112: 110. | B112: Z36.1.8 | C112: Z36.1.7 | E112: 20.53
A113: 111. | B113: Z36.1.8 | C113: Z36.1.8A | D113: 11.85
A114: 112. | B114: Z710.1 | C114: Z70.1' | D114: 6.22
A115: 113. | B115: Z54.12 | C115: Z54.12' | D115: 0.94
A116: 114. | B116: Z54.5 | C116: Z54.5' | D116: 0.55
A117: 115. | B117: Z53.1A | C117: Z53.1A' | D117: 0.9
A118: 116. | B118: Z51.1 | C118: Z51.1' | D118: 5.11
A119: 117. | B119: Z133.1 | C119: Z133.1' | D119: =13.77-D120 -> 9.7
A120: 118. | B120: Z133.1 | C120: Z133.1' | D120: 4.07
A121: 119. | B121: T148.1 | C121: T148.1' | D121: 7.86
A122: 120. | B122: T490.1 | C122: T490.1' | D122: 7.24
A123: 121. | B123: T485.4.1t | C123: T485.4.1a | D123: 2.7
A124: 122. | B124: T372D.a | C124: T372D.a' | D124: 1.86
A125: 123. | B125: T579.a | C125: T579.a' | D125: 0.59
A126: 124. | B126: T578.1 | C126: T578.1' | D126: 5.38
A127: 125. | B127: T604.1 | C127: T604.1' | D127: 5.51
A128: 126. | B128: T374.5A.a | C128: T374.5A.a' | D128: 1.92
A129: 127. | B129: T537.1 | C129: T537.1' | D129: 9.41
A130: 128. | B130: T378.1.a | C130: T378.1.a' | D130: 0.76
A131: 129. | B131: T542.1.a | C131: T542.1.a' | D131: 0.88
... A219: 217. | B219: P687.1 | C219: P687.1' | D219: 1.36
A220: 218. | B220: P516 | C220: P516.1 | E220: 36.49
A221: 219. | B221: P516.1 | C221: P516.2 | E221: 44.43
A222: 220. | B222: P516.3 | C222: P516.4 | D222: 12.52
A223: 221. | B223: P572A.3 | C223: P572A.3' | D223: 4.28
A224: 222. | B224: P33.2 | C224: P33.2' | D224: 2.98
A225: 223. | B225: Z36.1.6 | C225: Z36.1.7 | E225: 24.11
A226: 224. | B226: Z36.1.3 | C226: Z36.1.4 | E226: 4.39
A227: 225. | B227: Z36.1.5 | C227: Z36.1.6 | E227: 3.02
A228: 226. | B228: Z36.1.8 | C228: Z36.1.9 | D228: 27.49
A229: 227. | B229: Z36.1.9 | C229: Z36.1.10 | D229: 6.91
A230: 228. | B230: Z36.1.10 | C230: Z36.1.11 | D230: 33.58
A231: 229. | B231: L175A | C231: L175A' | D231: 6.08
A232: 230. | B232: L276 | C232: L276' | D232: 5.74
A233: 231. | B233: L259.8D | C233: L259.8D' | D233: 4.8
A234: 232. | B234: G338.7A | C234: G338.7A' | D234: 1.36
A235: 233. | B235: G205.1 | C235: G205.1A | D235: 4.67
A236: 234. | B236: G200.1 | C236: G200.1' | D236: 0.2
A237: 235. | B237: G769.1A | C237: G769.1A' | D237: 4.49
A238: 236. | B238: G755 | C238: G755' | D238: 3.24
A239: 237. | B239: G755 | C239: G755' | D239: 2
... A241: 239. | B241: G753A | C241: G753A' | D241: 1.98
A242: 240. | B242: L147A | C242: L147B | E242: 4.72
A243: 241. | B243: L197.9A | C243: L197.9A' | D243: 1.26
A244: 242. | B244: L197.4B | C244: L197.4B' | D244: 0.68
A245: 243. | B245: L200.1 | C245: L200.1' | D245: 0.38
A246: 244. | B246: G635B | C246: G635B' | D246: 2.63
A247: 245. | B247: G631.6 | C247: G631.6' | D247: 0.7
...

Sheet 22
A1: Arkusz 22
A2: Lp. | B2: Od studni | C2: do studni | D2: fi160 | E2: fi200
A3: 1. | B3: B4.1 | C3: B4.1' | D3: 1.06
A4: 2. | B4: B60.1 | C4: B60.1' | D4: 1.01
A5: 3. | B5: B5A.2.a | C5: B5A.2.a' | D5: 0.67
A6: 4. | B6: P12/B270.3 | C6: P12/B270.3' | D6: 1.33
A7: 5. | B7: B6B | C7: B6B' | D7: 0.52
A8: 6. | B8: P1/B10.a | C8: P1/B10.a' | D8: 4.36
A9: 7. | B9: B115.3 | C9: B115.3 | D9: 14.53
A10: 8. | B10: B123A.a | C10: B123A.a' | D10: 2.39
A11: 9. | B11: B110.2a | C11: B110.2a' | D11: 0.63
A12: 10. | B12: B102.a | C12: B102.a' | D12: 3.67
A13: 11. | B13: B25.6.a | C13: B25.6.a' | D13: 2.2
A14: 12. | B14: B26.A.a | C14: B26.A.a | D14: 1.7
... A44: 42. | B44: Ł564 | C44: Ł564.1 | D44: 5.35
A45: 43. | B45: =C44 -> Ł564.1 | C45: Ł564.1' | D45: 8.69
A46: 44. | B46: Ł42.1'a | C46: Ł42.1'a' | D46: 1.14
A47: 45. | B47: G182 | C47: G182' | D47: 0.76
A48: 46. | B48: G66.1 | C48: G66.1' | D48: 0.97
A49: 47. | B49: G5.40.1Z | C49: G5.40.1' | D49: 2.54
A50: 48. | B50: G45.1z | C50: G45.1' | D50: 0.89
A51: 49. | B51: G22.4 | C51: G22.4' | D51: 0.42
A52: 50. | B52: G34.1 | C52: G34.1' | D52: 1.12
A53: 51. | B53: G84.3Z | C53: G84.3' | D53: 1.58
A54: 52. | B54: G546.1 | C54: G546.1A | D54: 1.07
A55: 53. | B55: G5.71.1 | C55: G5.71.1' | D55: 1.28
A56: 54. | B56: L773.3 | C56: L773.4 | D56: 1.1
A57: 55. | B57: L784.1 | C57: L784.1' | D57: 1.35
... A87: 85. | B87: G657A.5 | C87: G657A.6 | D87: 7.66
A88: 86. | B88: G657A.6 | C88: 1 | D88: 5.89
A89: 87. | B89: 1 | C89: 2 | D89: 11.99
A90: 88. | B90: 2 | C90: 3 | D90: 1.93
A91: 89. | B91: 3 | C91: 4 | D91: 2.31
A92: 90. | B92: G792 | C92: G792' | D92: 4.89
A93: 91. | B93: G209.2 | C93: G209.2' | D93: 4.88
A94: 92. | B94: G823 | C94: G823A | D94: 4.21
A95: 93. | B95: G823A | C95: G823A' | D95: 4.89
A96: 94. | B96: L481.2 | C96: L481.3 | D96: 19.95
A97: 95. | B97: L481.3 | C97: L481.4 | D97: 14.69
A98: 96. | B98: L481.4 | C98: L481.4' | D98: 2.95
A99: 97. | B99: L481.3 | C99: L481.3' | D99: 2.39
A100: 98. | B100: G5.55.1 | C100: G5.55.2 | D100: 4.8
A101: 99. | B101: G5.55.2 | C101: G5.55.2SZ | D101: 6.42
A102: 100. | B102: G5.55.2SZ | C102: G5.55.2W | D102: 0.83
A103: 101. | B103: L315 | C103: L315.1 | D103: 11.1
... A116: 114. | B116: K4' | C116: K4'' | D116: 0.71
A117: 115. | B117: K4.1' | C117: K4.2 | E117: 0.67
A118: 116. | B118: K2' | C118: K2'' | D118: 0.63
A119: 117. | B119: P213 | C119: P213' | D119: 1.15
A120: 118. | B120: P1361.1 | C120: P1361.1 | D120: 1.61
A121: 119. | B121: T62.1.b | C121: T62.1.b' | D121: 0.9
A122: 120. | B122: T64A.a | C122: T64A.a' | D122: 0.7
A123: 121. | B123: T412.1z | C123: T412.1' | D123: 1.39
A124: 122. | B124: T394.5.1 | C124: przyłącze | D124: 1.26
A125: 123. | B125: T394.6.1 | C125: T394.6.1' | D125: 0.57
A126: 124. | B126: T513.1.a | C126: T513.1.a' | D126: 0.39
A127: 125. | B127: T594.2A.a | C127: T594.2A.a' | D127: 1.34
A128: 126. | B128: T524.a | C128: T524.a' | D128: 1.39
A129: 127. | B129: T568.a | C129: T568.a' | D129: 0.88
... A131: 129. | B131: T41.4z | C131: T41.4z1 | D131: 5.56
A132: 130. | B132: =C131 -> T41.4z1 | C132: T41.4' | D132: 0.47
A133: 131. | B133: T338D | C133: T338D' | D133: 0.63
A134: 132. | B134: =B133 -> T338D | C134: T338Dz | D134: 0.48
A135: 133. | B135: T588.a | C135: T588.a' | D135: 0.95
A136: 134. | B136: T479A1z | C136: T479A1' | D136: 0.2
A137: 135. | B137: T254A | C137: T254A' | D137: 1.19
A138: 136. | B138: T60.10.2 | C138: T60.10.2' | D138: 3.28
A139: 137. | B139: T172.3.a | C139: T172.3.a' | D139: 0.9
A140: 138. | B140: T503.1 | C140: T503.1' | D140: 1.77
A141: 139. | B141: T447.3a" | C141: T447.3a' | D141: 2.72
A142: 140. | B142: T447.3a | C142: T447.3a' | D142: 1.2
A143: 141. | B143: T581.1 | C143: T581.1' | D143: 28.33
A144: 142. | B144: T86.1A | C144: T86.1A' | D144: 1.78
A145: 143. | B145: T141 | C145: T141' | D145: 8.43
A146: 144. | B146: T448.1 | C146: T448.1A | D146: 26.91
... A157: 155. | B157: P366.3.1z | C157: P366.3.2 | D157: 11.04
A158: 156. | B158: =C157 -> P366.3.2 | C158: P366.3.2' | D158: 1.25
A159: 157. | B159: P72a | C159: P72a' | D159: 0.81
A160: 158. | B160: P59.1 | C160: P59.2 | D160: 11.66
A161: 159. | B161: P575A | C161: P575A' | D161: 8.28
A162: 160. | B162: P670.1 | C162: P670.1' | D162: 2
A163: 161. | B163: P670.1 | C163: P670.1' | D163: 12.07
A164: 162. | B164: P670.1 | C164: 1 | D164: 10.52
A165: 163. | B165: P670.1 | C165: 2 | D165: 1
A166: 164. | B166: P670.1 | C166: 2 | D166: 6.74
A167: 165. | B167: N10z | C167: N10' | D167: 6.13
A168: 166. | B168: N10.4z | C168: N10.4' | D168: 2.8
A169: 167. | B169: N68.1z | C169: N68.1z1 | D169: 6.99
A170: 168. | B170: N68.1z1 | C170: N68.1' | D170: 0.39
A171: 169. | B171: N110A.1 | C171: N110A.1' | D171: 0.87
A172: 170. | B172: N42a.3z | C172: N42a.3' | D172: 11.41
A173: 171. | B173: N105.1 | C173: N105.2 | D173: 17.41
A174: 172. | B174: N105.2 | C174: WŁ. | D174: 1.27
A175: 173. | B175: N5.2(425) | C175: N5.2' | D175: 0.51
A176: 174. | B176: Z311.1z | C176: Z311.1' | D176: 3.8
A177: 175. | B177: Z237.2 | C177: Z237.2' | D177: 1.22
A178: 176. | B178: Z98.1a | C178: Z98.1a' | D178: 0.19
... A188: 186. | B188: L413.2 | C188: L413.2' | D188: 3.98
A189: 187. | B189: L401 | C189: L401.1 | E189: 31.02
A190: 188. | B190: L757.4 | C190: L757.4' | D190: =9.59-D191 -> 1.24
...
