Workbook

Sheet Zbiorcze
C3: Nr Arkusza | D3: Ilość [m]
D4: Ø160 | E4: Ø200 | F4: Ø315
C5: 6 | E5: ='6'!D121 -> 2111.5 | F5: ='6'!E121 -> 381.09 | H5: =D5+E5+F5 -> 2492.59
C6: 8 | E6: ='8'!D50 -> 955.98 | F6: ='8'!E50 -> 84.77 | H6: =D6+E6+F6 -> 1040.75
C7: 9 | D7: ='9'!D117 -> 1311.8 | E7: ='9'!E117 -> 468.16 | H7: =D7+E7+F7 -> 1779.96
C8: 10 | D8: ='10'!D76 -> 570.28 | E8: ='10'!E76 -> 717.81 | H8: =D8+E8+F8 -> 1288.09
C9: 11 | D9: ='11+12'!J63 -> 487.55 | E9: ='11+12'!J64 -> 912.55 | F9: ='11+12'!J65 -> 73.84 | H9: =D9+E9+F9 -> 1473.94
C10: 15 | D10: ='15'!D17 -> 121.87 | E10: ='15'!E17 -> 106.87 | F10: ='15'!F17 -> 15.21 | H10: =D10+E10+F10 -> 243.95
C11: 16 | D11: ='16'!D36 -> 215.05 | E11: ='16'!E36 -> 172.14 | H11: =D11+E11+F11 -> 387.19
C12: 17 | D12: ='17'!D95 -> 496.84 | E12: ='17'!E95 -> 171.6 | H12: =D12+E12+F12 -> 668.44
C13: 18 | D13: ='18'!D371 -> 1800.09 | E13: ='18'!E371 -> 682.23 | H13: =D13+E13+F13 -> 2482.32
C14: 20 | D14: ='20'!D827 -> 4685.96 | E14: ='20'!E827 -> 1371.64 | F14: ='20'!F827 -> 73.2 | H14: =D14+E14+F14 -> 6130.8
C15: 21 | D15: ='21'!D376 -> 1903.75 | E15: ='21'!E376 -> 390.13 | H15: =D15+E15+F15 -> 2293.88
C16: 22 | D16: ='22'!D482 -> 3074.15 | E16: ='22'!E482 -> 1277.97 | H16: =D16+E16+F16 -> 4352.12
C17: Razem: | D17: =SUM(D5:D16) -> 14667.34 | E17: =SUM(E5:E16) -> 9338.58 | F17: =SUM(F5:F16) -> 628.11 | H17: =SUM(H5:H16) -> 24634.03
C20: OGÓŁEM: | E20: =D17+E17+F17 -> 24634.03

Sheet 6
A1: Arkusz 6
A2: Lp. | B2: Od studni | C2: do studni | D2: fi200 | E2: fi315
A3: 1. | B3: G685A.1 | C3: G685A | D3: 21.16
A4: 2. | B4: G687 | C4: G688 | D4: 31.87
A5: 3. | B5: G722 | C5: G721 | D5: 27.83
A6: 4. | B6: G721 | C6: G720 | D6: 19.55
A7: 5. | B7: G670 | C7: G671.A | D7: 39.37
A8: 6. | B8: G671A | C8: G671 | D8: 5.58
A9: 7. | B9: G671 | C9: G672 | D9: 21.3
A10: 8. | B10: G374 | C10: G373 | D10: 22.83
A11: 9. | B11: G189 | C11: G189.1 | D11: 16.6
A12: 10. | B12: G176 | C12: G175 | D12: 17.1
A13: 11. | B13: G489 | C13: G489.1 | D13: 17.51
A14: 12. | B14: G488 | C14: G488.1 | D14: 33.09
... A18: 16. | B18: G233 | C18: G231.A | D18: 25.47
A19: 17. | B19: P271 | C19: P270 | E19: 23.09
A20: 18. | B20: P270 | C20: P269 | E20: 14.43
A21: 19. | B21: P318 | C21: P270 | D21: 18.19
A22: 20. | B22: P30 | C22: P31 | D22: 7.15
A23: 21. | B23: P31 | C23: P32 | D23: 36.67
A24: 22. | B24: P316.4 | C24: P316.3 | D24: 11.29
A25: 23. | B25: P316.3 | C25: P316.1A | D25: 7.3
A26: 24. | B26: P642 | C26: P642A | D26: 18.18
A27: 25. | B27: P291.7 | C27: P291.6 | D27: 24.88
A28: 26. | B28: P291. | C28: P291.4 | D28: 10.86
A29: 27. | B29: P359 | C29: P360 | D29: 36.77
A30: 28. | B30: P1/B6A | C30: P1/B7 | D30: 33.1
A31: 29. | B31: T267 | C31: T267A | D31: 42.24
A32: 30. | B32: T235 | C32: T235A | D32: 23.18
... A91: 89. | B91: Ł134 | C91: Ł135 | D91: 30.65
A92: 90. | B92: Ł26.1 | C92: Ł26 | E92: 19.68
A93: 91. | B93: Ł686 | C93: Ł685.1 | D93: 19.07
A94: 92. | B94: Ł89.10 | C94: Ł89.9 | D94: 18.54
A95: 93. | B95: Ł89.4 | C95: Ł89.3 | D95: 13.83
A96: 94. | B96: Ł89.3 | C96: Ł89.3.1 | D96: 10.82
A97: 95. | B97: Ł89.3.1 | C97: Ł89.2 | D97: 10.56
A98: 96. | B98: Ł89.2 | C98: Ł89.1 | D98: 9.88
A99: 97. | B99: Ł406 | C99: Ł405 | D99: 21.44
A100: 98. | B100: Ł405 | C100: Ł404 | D100: 11.93
A101: 99. | B101: Ł402 | C101: Ł401A | D101: 19.05
...

Sheet 8
A1: Arkusz 8
A2: Lp. | B2: Od studni | C2: do studni | D2: fi200 | E2: fi315
A3: 1. | B3: G338.19 | C3: G338.18 | D3: 9.28
A4: 2. | B4: G828 | C4: G830 | D4: 8.09
A5: 3. | B5: G778 | C5: G778.1 | D5: 23.27
A6: 4. | B6: G631 | C6: G631.1 | D6: 6.5
A7: 5. | B7: G631.1 | C7: G631.2 | D7: 24.19
A8: 6. | B8: G351 | C8: G352 | D8: 32.01
A9: 7. | B9: G355 | C9: G355B | D9: 10.89
A10: 8. | B10: G718 | C10: G719 | D10: 12.04
A11: 9. | B11: G306 | C11: G308 | D11: 30.38
A12: 10. | B12: G308 | C12: G307 | D12: 18.02
A13: 11. | B13: Ł380 | C13: E | D13: 47.1
A14: 12. | B14: Ł253.2 | C14: PI | D14: 6.7
... A43: 41. | B43: L30 | C43: L31 | D43: 25.37
A44: 42. | B44: P475 | C44: P476 | E44: 12.6
A45: 43. | B45: P492 | C45: P493 | E45: 37.28
A46: 44. | B46: P494 | C46: P495 | E46: 34.89
A47: 45. | B47: L688 | C47: L687 | D47: 44.27
A48: 46. | B48: Ł279.1 | C48: Ł279 | D48: 21.39
A49: 47. | B49: Z100 | C49: Z100A | D49: 23.79
D50: =SUM(D3:D49) -> 955.98 | E50: =SUM(E3:E49) -> 84.77 | F50: =D50+E50 -> 1040.75

Sheet 9
A1: Arkusz 9
A2: Lp. | B2: Od studni | C2: do studni | D2: fi160 | E2: fi200
A3: 1. | B3: G398.4 | C3: G398.5 | D3: 9.17
A4: 2. | B4: G403 | C4: G403.1 | D4: 30
A5: 3. | B5: L22 | C5: L22.1 | D5: 32.96
A6: 4. | B6: L710 | C6: L710.1 | D6: 9.12
A7: 5. | B7: L715 | C7: L715.1 | D7: 5.7
A8: 6. | B8: L745 | C8: L745.1 | D8: 11.17
A9: 7. | B9: L740.1 | C9: L740 | D9: 5.06
A10: 8. | B10: L604 | C10: L604.1 | D10: 18.94
A11: 9. | B11: L605 | C11: L605.1 | D11: 8.67
A12: 10. | B12: L606 | C12: L606.1 | D12: 49.93
A13: 11. | B13: L606' | C13: L606.3 | D13: 5.98
A14: 12. | B14: L607.1 | C14: L607.2 | D14: 5.78
... A20: 18. | B20: G392 | C20: G392.1 | D20: 5.9
A21: 19. | B21: L618 | C21: L619 | E21: 28.83
A22: 20. | B22: L597 | C22: L598 | E22: 43.66
A23: 21. | B23: L601 | C23: L602 | E23: 8.62
A24: 22. | B24: Ł484 | C24: Ł485.1 | D24: 13.35
A25: 23. | B25: Ł214 | C25: Ł214.1 | D25: 23.11
A26: 24. | B26: Ł94 | C26: Ł94.1 | D26: 13.58
A27: 25. | B27: Ł483 | C27: Ł484 | E27: 34.91
A28: 26. | B28: Ł351 | C28: Ł352 | E28: 12.7
A29: 27. | B29: Z338 | C29: Z338.1 | D29: 15.33
A30: 28. | B30: Z340 | C30: Z340.1 | D30: 21.55
A31: 29. | B31: Z340A | C31: Z340A.1 | D31: 14.61
A32: 30. | B32: Z341.1 | C32: Z341.2 | D32: 32.48
A33: 31. | B33: Z341.1 | C33: Z341.3 | D33: 36.34
A34: 32. | B34: Z73 | C34: Z73.1 | D34: 23.69
A35: 33. | B35: Z331.1 | C35: Z331.1.1 | D35: 15.24
A36: 34. | B36: Z166 | C36: Z166.1 | D36: 15.47
A37: 35. | B37: Z341 | C37: Z341.1 | E37: 13.71
A38: 36. | B38: P662.1 | C38: P662.2 | D38: 6.59
A39: 37. | B39: P216.1 | C39: P216.1A | D39: 19.94
A40: 38. | B40: P475 | C40: P475.1 | D40: 15.18
A41: 39. | B41: P503 | C41: P503.1 | D41: 20.79
A42: 40. | B42: P559 | C42: P559.1 | D42: 17.9
A43: 41. | B43: P560 | C43: P560.1 | D43: 20.86
A44: 42. | B44: P541 | C44: P541.1 | D44: 10.12
A45: 43. | B45: P549 | C45: P549.1 | D45: 16.61
...

Sheet 10
A1: Arkusz 10
A2: Lp. | B2: Od studni | C2: do studni | D2: fi160 | E2: fi200
A3: 1. | B3: L80 | C3: L79 | E3: 20.98
A4: 2. | B4: L79 | C4: L78 | E4: 24.58
A5: 3. | B5: G790.9 | C5: G790.6 | E5: 16.1
A6: 4. | B6: G333A | C6: G332 | E6: 15.54
A7: 5. | B7: G654A | C7: G657A | E7: 19.84
A8: 6. | B8: G656 | C8: G657 | E8: 42.39
A9: 7. | B9: L627 | C9: L628 | E9: 35.99
A10: 8. | B10: Z133 | C10: Z133.1 | D10: 5.22
A11: 9. | B11: Ł316 | C11: Ł316.1 | D11: 15.39
A12: 10. | B12: Ł316.1 | C12: Ł316.2 | D12: 17.18
A13: 11. | B13: Ł311 | C13: Ł311.1 | D13: 15.43
A14: 12. | B14: B280.3 | C14: B280.3A | D14: 5.38
A15: 13. | B15: B205 | C15: B204 | E15: 20.6
A16: 14. | B16: B204 | C16: B203 | E16: 25.74
A17: 15. | B17: B203 | C17: B202 | E17: 24.2
A18: 16. | B18: B166 | C18: B166A | D18: 7.55
A19: 17. | B19: B166.1 | C19: B166.1A | D19: 8.97
A20: 18. | B20: B169 | C20: B169A | D20: 4.96
A21: 19. | B21: B170 | C21: B170A | D21: 35.67
A22: 20. | B22: B170 | C22: B171A | E22: 32.24
A23: 21. | B23: B233 | C23: B233A | D23: 18.62
A24: 22. | B24: B235.1 | C24: B235.1A | D24: 59.81
A25: 23. | B25: B234.2 | C25: B234.2A | D25: 4.67
A26: 24. | B26: B234.4 | C26: B234.4A | D26: 10.2
A27: 25. | B27: B234.8 | C27: B234.9 | E27: 13.32
A28: 26. | B28: B234.8 | C28: B234.8A | D28: 4.77
A29: 27. | B29: B239 | C29: B239A | D29: 5.1
A30: 28. | B30: B243 | C30: B234A | D30: 3.72
A31: 29. | B31: P5/B5.2 | C31: P5/B5.3 | D31: 12.83
A32: 30. | B32: P5/B8 | C32: P5/B8.A | D32: 14.46
A33: 31. | B33: B62 | C33: B62.1 | D33: 11.76
A34: 32. | B34: B41.2 | C34: B41.1A | D34: 7.46
A35: 33. | B35: B44 | C35: B44.1 | D35: 9.65
A36: 34. | B36: B46 | C36: B46.1 | D36: 7.15
A37: 35. | B37: B105A | C37: B105B | D37: 11.94
A38: 36. | B38: B115 | C38: B115.1 | E38: 38.42
A39: 37. | B39: B58.1 | C39: B56.2 | E39: 45.88
A40: 38. | B40: B196 | C40: B196.1 | D40: 16.73
...

Sheet 11+12
A1: Arkusz 11
A2: Lp. | B2: Od studni | C2: do studni | D2: fi160 | E2: fi200
A3: 1. | B3: L368.4 | C3: L368.5 | E3: 47.57
A4: 2. | B4: L67A | C4: L67 | E4: 23.86
A5: 3. | B5: G799A | C5: G799 | E5: 13.95
A6: 4. | B6: G820D | C6: G820C | E6: 24.25
A7: 5. | B7: G307.5 | C7: G307 | E7: 24.09
A8: 6. | B8: Ł616.1 | C8: Ł616.2 | E8: 11.46
A9: 7. | B9: Ł665 | C9: Ł666 | E9: 20.2
A10: 8. | B10: Ł534.A | C10: Ł534 | E10: 44.91
A11: 9. | B11: P204 | C11: P204.1 | D11: 21.07
A12: 10. | B12: P405F.3 | C12: P405F.2 | D12: 15.17
A13: 11. | B13: P45F.2 | C13: P405F.1 | D13: 27.06
A14: 12. | B14: P219 | C14: P219.1 | D14: 7.95
A15: 13. | B15: P219.1 | C15: P219.2 | D15: 34.98
A16: 14. | B16: P519 | C16: P519.1 | D16: 14.21
A17: 15. | B17: P523’ | C17: P523’1 | D17: 4.64
A18: 16. | B18: P523’.2 | C18: P523.’3 | D18: 9.41
A19: 17. | B19: P523’.3 | C19: P523’4 | D19: 2.66
A20: 18. | B20: P523’.4 | C20: P523’.5 | D20: 27.83
A21: 19. | B21: P574 | C21: P574.1 | D21: 9.7
A22: 20. | B22: P575 | C22: P575.1 | D22: 31.95
A23: 21. | B23: B11 | C23: B12 | E23: 26.12
A24: 22. | B24: B266 | C24: B265.1 | E24: 17.98
A25: 23. | B25: B266 | C25: B267 | E25: 12.11
A26: 24. | B26: B267 | C26: B267A | E26: 32.26
A27: 25. | B27: B267A | C27: B267B | E27: 11.48
A28: 26. | B28: B267 | C28: B268 | E28: 7.21
A29: 27. | B29: B268 | C29: B269 | E29: 29.91
A30: 28. | B30: B269 | C30: B270 | E30: 27.03
A31: 29. | B31: B2A | C31: B2 | E31: 18.71
A32: 30. | B32: B2 | C32: B2.1 | D32: 26.99
D33: =SUM(D3:D32) -> 233.62 | E33: =SUM(E3:E32) -> 393.1 | F33: =D33+E33 -> 626.72
A34: Arkusz 12
A35: Lp. | B35: Od studni | C35: do studni | D35: fi160 | E35: fi200 | F35: fi315
A36: 1. | B36: Ł723.5 | C36: G1 | E36: 71.32
A37: 2. | B37: Ł384 | C37: Ł384.2 | E37: 17.07
A38: 3. | B38: G529.1 | C38: G529 | E38: 45.1
A39: 4. | B39: G784B | C39: G784C | D39: 16.18
A40: 5. | B40: G784C | C40: G784D | D40: 31.78
...

Sheet 15
A1: Arkusz 15
A2: Lp. | B2: Od studni | C2: do studni | D2: fi160 | E2: fi200 | F2: fi315
A3: 1. | B3: L1A | C3: L1A1 | D3: 17
A4: 2. | B4: G635A | C4: G635B | D4: 8.72
A5: 3. | B5: G636 | C5: G636A | D5: 17.58
A6: 4. | B6: G636A | C6: G636B | D6: 5.53
A7: 5. | B7: G641 | C7: G641A | D7: 32.44
A8: 6. | B8: G368 | C8: G368.1 | D8: 25.51
A9: 7. | B9: G777 | C9: G776 | E9: 19.81
A10: 8. | B10: G778 | C10: G777 | E10: 27.16
A11: 9. | B11: Ł425 | C11: Ł425.1 | D11: 10.1
A12: 10. | B12: Ł424 | C12: Ł425 | E12: 30.27
A13: 11. | B13: P539.12 | C13: P539.12.1 | D13: 4.99
A14: 12. | B14: P539.11 | C14: P539.12 | E14: 18.77
A15: 13. | B15: Z1 | C15: Z2 | E15: 10.86
A16: 14. | B16: Z7 | C16: Z8 | F16: 15.21
D17: =SUM(D3:D16) -> 121.87 | E17: =SUM(E3:E16) -> 106.87 | F17: =SUM(F3:F16) -> 15.21 | G17: =D17+E17+F17 -> 243.95

Sheet 16
A1: Arkusz 16
A2: Lp. | B2: Od studni | C2: do studni | D2: fi160 | E2: fi200
A3: 1. | B3: L257.3 | C3: L257,3A | D3: 4.41
A4: 2. | B4: L267 | C4: L267A | D4: 16.06
A5: 3. | B5: L268,1 | C5: L268,2 | D5: 17.88
A6: 4. | B6: G226A1 | C6: G226A2 | D6: 5.24
A7: 5. | B7: G650 | C7: G650,1 | D7: 15.37
A8: 6. | B8: G776 | C8: G776A | D8: 4.79
A9: 7. | B9: G776 | C9: G776B | D9: 7.46
A10: 8. | B10: G649 | C10: G649.1 | D10: 4.62
A11: 9. | B11: G777 | C11: G777.1 | D11: 14.82
A12: 10. | B12: G218 | C12: G218A | D12: 15.2
A13: 11. | B13: G221 | C13: G221A | D13: 12.43
A14: 12. | B14: G624 | C14: G624.1 | D14: 7.91
... A20: 18. | B20: G378 | C20: G378A | D20: 10.53
A21: 19. | B21: Z7 | C21: T1 | E21: tłoczny
A22: 20. | B22: T1 | C22: St.odwodnieniowa | E22: tłoczny
A23: 21. | B23: Z1 | C23: Z2 | E23: tłoczny
A24: 22. | B24: Z2 | C24: P18 | E24: tłoczny
A25: 23. | B25: G326 | C25: G327 | E25: 9.59
A26: 24. | B26: G327 | C26: G327A | E26: 26.88
A27: 25. | B27: G327.3 | C27: G327.3A | D27: 2.69
A28: 26. | B28: Ł112 | C28: Ł111.2 | E28: 23.91
A29: 27. | B29: P18 | C29: P577 | E29: 5.3
A30: 28. | B30: P18 | C30: P572A | E30: 16.34
A31: 29. | B31: P31 | C31: P5A | E31: tłoczny
A32: 30. | B32: P198 | C32: P168A | E32: 27.08
A33: 31. | B33: P168A | C33: P168 | E33: 8.19
A34: 32. | B34: Z7 | C34: Z7A | E34: 24.42
A35: 33. | B35: Z7A | C35: Z8A | E35: 30.43
D36: =SUM(D3:D35) -> 215.05 | E36: =SUM(E3:E35) -> 172.14 | F36: =D36+E36 -> 387.19

Sheet 17
A1: Arkusz 17
A2: Lp. | B2: Od studni | C2: do studni | D2: fi160 | E2: fi200
A3: 1. | B3: P339.1 | C3: P339.1A | D3: 4.9
A4: 2. | B4: P331.1 | C4: P331.1A | D4: 5.13
A5: 3. | B5: P329.2 | C5: P329.2A.A | D5: 7.12
A6: 4. | B6: P381.4A | C6: P381.4A.A | D6: 8.92
A7: 5. | B7: P3814.1A | C7: P381.1A.A | D7: 7.05
A8: 6. | B8: P297B.1 | C8: P297B.1.A | D8: 5.95
A9: 7. | B9: P310.2 | C9: P310.2.A | D9: 0.68
A10: 8. | B10: P303.1 | C10: P303.1.A | D10: 0.8
A11: 9. | B11: P294.3.1 | C11: P294.3.1.A | D11: 4.94
A12: 10. | B12: P316.1.1 | C12: P316.1.1A | D12: 1.01
A13: 11. | B13: P428,7A | C13: P4280,7A,A | D13: 3.02
A14: 12. | B14: P599I | C14: P599I.A | D14: 1.89
... A51: 49. | B51: P231.1.B | C51: P231.1B.A | D51: 2.8
A52: 50. | B52: L182 | C52: 182' | E52: 4.1
A53: 51. | B53: L182' | C53: L210 | E53: 16.46
A54: 52. | B54: L211 | C54: L211' | E54: 6.36
A55: 53. | B55: L211'' | C55: L212' | E55: 7.02
A56: 54. | B56: L213 | C56: L214 | E56: 11.38
A57: 55. | B57: L216' | C57: L216'' | E57: 24
A58: 56. | B58: L216'' | C58: B | D58: 6.7
A59: 57. | B59: L233A | C59: A | D59: 3.15
A60: 58. | B60: P315.1 | C60: P315.2 | D60: 14.54
A61: 59. | B61: P600 | C61: P600.1 | D61: 13.09
A62: 60. | B62: P597 | C62: P597.1 | D62: 29.94
A63: 61. | B63: P630.2 | C63: P630.2` | D63: 7.69
A64: 62. | B64: P635 | C64: P635.1 | D64: 6.63
A65: 63. | B65: P637.3 | C65: P637.3.A | D65: 1
A66: 64. | B66: P646 | C66: P646.A | D66: 11.14
A67: 65. | B67: P681.2 | C67: P681.2.A | D67: 4.94
A68: 66. | B68: P700C.A | C68: P700C | D68: 3.08
A69: 67. | B69: P687.2 | C69: P687.2.A | D69: 4.35
... A82: 80. | B82: P231.1C | C82: P231.1CA | D82: 5.97
A83: 81. | B83: P206 | C83: P201A | D83: ns
A84: 82. | B84: L210 | C84: L211 | E84: 18.42
A85: 83. | B85: L211' | C85: L211' | E85: 18.45
A86: 84. | B86: L212' | C86: L213 | E86: 22.53
A87: 85. | B87: L216 | C87: L216' | E87: 31.22
A88: 86. | B88: L216'' | C88: B | D88: 6.7
...

Sheet 18
A1: Arkusz 18
A2: Lp. | B2: Od studni | C2: do studni | D2: fi160 | E2: fi200
A3: 1. | B3: A | C3: L640.1 | E3: 23.77
A4: 2. | B4: G200A.1 | C4: G200A.1.1 | D4: 10.99
A5: 3. | B5: G200A.2 | C5: G200A.2.1 | D5: 12.36
A6: 4. | B6: L425.1 | C6: L425.1A | D6: 4.98
A7: 5. | B7: L531.3 | C7: L531.4 | D7: 9.25
A8: 6. | B8: G5.27 | C8: G5.27A | D8: 16.82
A9: 7. | B9: G5.71 | C9: G5.72 | E9: 13.42
A10: 8. | B10: G5.72 | C10: G5.73 | E10: 51.26
A11: 9. | B11: Ł401C | C11: Ł401C.1 | E11: 45.88
A12: 10. | B12: Ł583.7 | C12: Ł583.8 | D12: 8.58
A13: 11. | B13: Ł522.1a | C13: Ł522.1 | D13: 5.95
A14: 12. | B14: Ł527.1 | C14: Ł527.1' | D14: 10.47
A15: 13. | B15: Ł527B | C15: Ł527B' | D15: 5.98
A16: 14. | B16: P25 | C16: P25A | D16: 19.71
A17: 15. | B17: Z10.1 | C17: Z11.A | E17: 12.23
A18: 16. | B18: Z10 | C18: Z10.1 | E18: 4.41
A19: 17. | B19: Z23 | C19: Z23A | D19: 12.9
A20: 18. | B20: Z8.1 | C20: Z9 | E20: 12.63
A21: 19. | B21: Z8A | C21: Z8.1 | E21: 9.17
A22: 20. | B22: Z9 | C22: Z10 | E22: 46.09
A23: 21. | B23: Z9 | C23: Z9.1 | E23: 23.29
A24: 22. | B24: Z41.1.A | C24: Z41.1.B | E24: 34.77
A25: 23. | B25: Z41.1.B | C25: Z41.1.B' | E25: 5.39
A26: 24. | B26: P119.3a | C26: P119.3 | D26: 6.2
A27: 25. | B27: P120.1 | C27: P120.2 | D27: 6.28
A28: 26. | B28: P254.1 | C28: P254.4 | D28: 17.03
A29: 27. | B29: P255 | C29: P255.1 | D29: 8.35
A30: 28. | B30: P266.1a | C30: P266.1 | D30: 4.76
A31: 29. | B31: P273.2a | C31: P273.2 | D31: 9.7
A32: 30. | B32: P276A | C32: P276A.1 | D32: 2.89
A33: 31. | B33: P287.1 | C33: P287.1' | D33: 4.09
A34: 32. | B34: P502.12 | C34: P502.12a | D34: 4.81
A35: 33. | B35: P509.1 | C35: P509.1'' | D35: 3.8
A36: 34. | B36: P510.1 | C36: P510.2 | D36: 11.86
A37: 35. | B37: P510.2 | C37: P510.2' | D37: 6.49
... A190: 188. | B190: B76.2 | C190: B76.2' | D190: 14.64
A191: 189. | B191: B40.A | C191: B40.A1 | E191: 3.37
A192: 190. | B192: B46A | C192: B46B | E192: 16.96
...

Sheet 20
A1: Arkusz 20
A2: Lp. | B2: Od studni | C2: do studni | D2: fi160 | E2: fi200 | F2: fi315
A3: 1. | B3: G20' | C3: G21 | E3: 12.37
A4: 2. | B4: Ł693.1 | C4: Ł693.1' | D4: 34.57
A5: 3. | B5: G349.2 | C5: G351 | E5: 6.85
A6: 4. | B6: G351 | C6: G351' | E6: 11.02
A7: 5. | B7: G281.1 | C7: G281.1 | D7: 10.25
A8: 6. | B8: G361 | C8: G362 | E8: 19.67
A9: 7. | B9: G362 | C9: G362A | E9: 23.54
A10: 8. | B10: G391.6 | C10: G396.1.1 | D10: 8.89
A11: 9. | B11: P523'.1 | C11: P523'.1a | D11: 8.05
A12: 10. | B12: P491.3 | C12: P491.3' | D12: 0.5
A13: 11. | B13: Z365 | C13: Z366 | E13: 10.52
A14: 12. | B14: Z366 | C14: Z366.1 | E14: 12.17
A15: 13. | B15: Z366 | C15: Z367 | E15: 50.3
A16: 14. | B16: Ł679 | C16: Ł681 | E16: 36.77
A17: 15. | B17: Ł105.4 | C17: Ł105.3 | E17: 22.9
A18: 16. | B18: Ł105.3 | C18: Ł106 | F18: 33.4
A19: 17. | B19: P708B | C19: P708B.1 | D19: 8.5
A20: 18. | B20: P675.1 | C20: P675.1' | D20: 1.82
A21: 19. | B21: P641 | C21: P641' | D21: 15.05
A22: 20. | B22: P589 | C22: P589' | D22: 11.55
A23: 21. | B23: P395 | C23: P395' | D23: 10.82
A24: 22. | B24: P400 | C24: P400' | D24: 4.28
A25: 23. | B25: P587B | C25: P587B' | D25: 7.16
A26: 24. | B26: P572A.1 | C26: P572A.1' | D26: 3.81
A27: 25. | B27: P581 | C27: P581.1 | D27: 6.48
A28: 26. | B28: P581.1 | C28: P581.1' | D28: 4.45
A29: 27. | B29: P574.1 | C29: P574.1' | D29: 6.02
A30: 28. | B30: P575.1 | C30: P575.1' | D30: 8.92
... A65: 63. | B65: P211 | C65: P211' | D65: 4.35
A66: 64. | B66: Ł277 | C66: Ł278 | E66: 27.34
A67: 65. | B67: Ł278 | C67: Ł279 | E67: 27.54
A68: 66. | B68: L84 | C68: L85 | E68: 6.62
A69: 67. | B69: L86 | C69: L86.1 | D69: 8.76
A70: 68. | B70: L87 | C70: L87.1 | D70: 22
A71: 69. | B71: L87 | C71: L87.3 | E71: 10.2
A72: 70. | B72: L89.3 | C72: L92.4 | E72: 22.45
A73: 71. | B73: L90 | C73: L90.1 | E73: 37.84
A74: 72. | B74: L92.1 | C74: L92.2 | D74: 21.66
...

Sheet 21
A1: Arkusz 21
A2: Lp. | B2: Od studni | C2: do studni | D2: fi160 | E2: fi200
A3: 1. | B3: G425 | C3: G425z | D3: =6.08 -> 6.08
A4: 2. | B4: G425 | C4: G425z | D4: 7
A5: 3. | B5: G425z | C5: G425' | D5: 9.64
A6: 4. | B6: S5.1 | C6: S5.1z | D6: 5.26
A7: 5. | B7: S5.1z | C7: S5.1' | D7: 4.41
A8: 6. | B8: G400.1 | C8: G400.1' | D8: 5.46
A9: 7. | B9: S3.1 | C9: S3.1' | D9: 13.41
A10: 8. | B10: S2.1 | C10: S2.1 | D10: 9.59
A11: 9. | B11: L148 | C11: L149 | E11: 13.24
A12: 10. | B12: Ł107.1 | C12: Ł107.1' | D12: 1.77
A13: 11. | B13: Ł356A | C13: Ł357 | E13: 13.62
A14: 12. | B14: Ł357 | C14: Ł357.1 | E14: 9.46
A15: 13. | B15: Ł357.1 | C15: Ł357.1' | D15: 3.66
A16: 14. | B16: Ł357.1 | C16: Ł357.2 | E16: 8.08
A17: 15. | B17: Ł357.2 | C17: Ł357.2' | D17: 4.3
A18: 16. | B18: Ł357 | C18: L358B | E18: 23.69
A19: 17. | B19: Ł358B | C19: Ł358A | E19: 4.72
A20: 18. | B20: Ł358A | C20: Ł358A' | D20: 5.25
A21: 19. | B21: Ł358A | C21: Ł358 | E21: 6.08
A22: 20. | B22: Ł323.1 | C22: Ł323.1' | D22: 3.29
A23: 21. | B23: Z43 | C23: Z43' | D23: 15.33
A24: 22. | B24: Z43' | C24: Z43'' | D24: 3.05
A25: 23. | B25: Z42.2 | C25: Z42.2' | D25: 6.86
A26: 24. | B26: Z5 | C26: Z5.1 | D26: 4.28
A27: 25. | B27: ZP2.4' | C27: ZP2.4 | D27: 1.49
A28: 26. | B28: ZP2.4 | C28: ZP2.1 | D28: 0.78
A29: 27. | B29: Z36.1.3 | C29: Z36.1.1 | E29: 26.92
A30: 28. | B30: Z36.1.4 | C30: Z36.1.5 | E30: 13.59
A31: 29. | B31: Z36.1.8 | C31: Z36.1.7 | E31: 20.53
A32: 30. | B32: Z36.1.8 | C32: Z36.1.8A | D32: 11.85
A33: 31. | B33: L292.1 | C33: L292.1' | D33: 1.16
A34: 32. | B34: L292.1 | C34: L292.1' | D34: 9.12
A35: 33. | B35: L259.8D | C35: L259.8D' | D35: 4.8
A36: 34. | B36: G338.23.1 | C36: G338.23.1' | D36: 8.77
A37: 35. | B37: L147 | C37: L147A | E37: 47.98
A38: 36. | B38: L147A | C38: L147A.1 | D38: 12.26
A39: 37. | B39: L147A.1 | C39: L147A.1' | D39: 5.5
A40: 38. | B40: G823.1 | C40: G823.1' | D40: 1.74
...

Sheet 22
A1: Arkusz 22
A2: Lp. | B2: Od studni | C2: do studni | D2: fi160 | E2: fi200
A3: 1. | B3: B4.1 | C3: B4.1' | D3: 1.06
A4: 2. | B4: B60.1 | C4: B60.1' | D4: 1.01
A5: 3. | B5: B5A.2.a | C5: B5A.2.a' | D5: 0.67
A6: 4. | B6: P12/B270.3 | C6: P12/B270.3' | D6: 1.33
A7: 5. | B7: B6B | C7: B6B' | D7: 0.52
A8: 6. | B8: P1/B10.a | C8: P1/B10.a' | D8: 4.36
A9: 7. | B9: B115.3 | C9: B115.3 | D9: 14.53
A10: 8. | B10: B123A.a | C10: B123A.a' | D10: 2.39
A11: 9. | B11: B110.2a | C11: B110.2a' | D11: 0.63
A12: 10. | B12: B102.a | C12: B102.a' | D12: 3.67
A13: 11. | B13: B25.6.a | C13: B25.6.a' | D13: 2.2
A14: 12. | B14: B26.A.a | C14: B26.A.a | D14: 1.7
... A44: 42. | B44: Ł564 | C44: Ł564.1 | D44: 5.35
A45: 43. | B45: =C44 -> Ł564.1 | C45: Ł564.1' | D45: 8.69
A46: 44. | B46: Ł42.1'a | C46: Ł42.1'a' | D46: 1.14
A47: 45. | B47: G182 | C47: G182' | D47: 0.76
A48: 46. | B48: G66.1 | C48: G66.1' | D48: 0.97
A49: 47. | B49: G5.40.1Z | C49: G5.40.1' | D49: 2.54
A50: 48. | B50: G45.1z | C50: G45.1' | D50: 0.89
A51: 49. | B51: G22.4 | C51: G22.4' | D51: 0.42
A52: 50. | B52: G34.1 | C52: G34.1' | D52: 1.12
A53: 51. | B53: G84.3Z | C53: G84.3' | D53: 1.58
A54: 52. | B54: G546.1 | C54: G546.1A | D54: 1.07
A55: 53. | B55: G5.71.1 | C55: G5.71.1' | D55: 1.28
A56: 54. | B56: L773.3 | C56: L773.4 | D56: 1.1
A57: 55. | B57: L784.1 | C57: L784.1' | D57: 1.35
... A87: 85. | B87: G657A.5 | C87: G657A.6 | D87: 7.66
A88: 86. | B88: G657A.6 | C88: 1 | D88: 5.89
A89: 87. | B89: 1 | C89: 2 | D89: 11.99
A90: 88. | B90: 2 | C90: 3 | D90: 1.93
A91: 89. | B91: 3 | C91: 4 | D91: 2.31
A92: 90. | B92: G792 | C92: G792' | D92: 4.89
A93: 91. | B93: G209.2 | C93: G209.2' | D93: 4.88
A94: 92. | B94: G823 | C94: G823A | D94: 4.21
A95: 93. | B95: G823A | C95: G823A' | D95: 4.89
A96: 94. | B96: L481.2 | C96: L481.3 | D96: 19.95
A97: 95. | B97: L481.3 | C97: L481.4 | D97: 14.69
A98: 96. | B98: L481.4 | C98: L481.4' | D98: 2.95
...
